BEGIN:VCALENDAR
VERSION:2.0
PRODID:-//Visit Concord - ECPv6.15.20//NONSGML v1.0//EN
CALSCALE:GREGORIAN
METHOD:PUBLISH
X-WR-CALNAME:Visit Concord
X-ORIGINAL-URL:https://visitconcord.org
X-WR-CALDESC:Events for Visit Concord
REFRESH-INTERVAL;VALUE=DURATION:PT1H
X-Robots-Tag:noindex
X-PUBLISHED-TTL:PT1H
BEGIN:VTIMEZONE
TZID:America/New_York
BEGIN:DAYLIGHT
TZOFFSETFROM:-0500
TZOFFSETTO:-0400
TZNAME:EDT
DTSTART:20240310T070000
END:DAYLIGHT
BEGIN:STANDARD
TZOFFSETFROM:-0400
TZOFFSETTO:-0500
TZNAME:EST
DTSTART:20241103T060000
END:STANDARD
BEGIN:DAYLIGHT
TZOFFSETFROM:-0500
TZOFFSETTO:-0400
TZNAME:EDT
DTSTART:20250309T070000
END:DAYLIGHT
BEGIN:STANDARD
TZOFFSETFROM:-0400
TZOFFSETTO:-0500
TZNAME:EST
DTSTART:20251102T060000
END:STANDARD
BEGIN:DAYLIGHT
TZOFFSETFROM:-0500
TZOFFSETTO:-0400
TZNAME:EDT
DTSTART:20260308T070000
END:DAYLIGHT
BEGIN:STANDARD
TZOFFSETFROM:-0400
TZOFFSETTO:-0500
TZNAME:EST
DTSTART:20261101T060000
END:STANDARD
END:VTIMEZONE
BEGIN:VEVENT
DTSTART;TZID=America/New_York:20250530T171500
DTEND;TZID=America/New_York:20250530T191500
DTSTAMP:20260424T150749
CREATED:20250406T183813Z
LAST-MODIFIED:20250406T185527Z
UID:10020754-1748625300-1748632500@visitconcord.org
SUMMARY:Walden Woods Project Invites you to a Conversation with The Honorable Stephen Breyer and Historian Douglas Brinkley
DESCRIPTION:We Will Welcome The Honorable Stephen Breyer –A Retired Associate Justice Of The U.S. Supreme Court–To Our Headquarters\, For A Conversation Moderated By Historian Douglas Brinkley.\nIn Commemoration Of This Year’s 250th Anniversary Of The American Revolution\, The Walden Woods Project Is Pleased To Invite You To A Special Event On Friday\, May 30th\, From 5:15 Pm – 7:15 Pm Est. \nWHERE: The Walden Woods Project \n44 Baker Farm Road\, Lincoln\, MA \nWHEN: Friday\, May 30\, 2025 5:15 pm – 7:15 pm EST \nThis outdoor event will be held rain or shine in an enclosed tent. \nAdvance registration is required for admission. Click “REGISTER NOW” below to: \n\nreserve your seat(s);\npre-order signed copies of Justice Breyer’s book\, Reading the Constitution:\nWhy I Chose Pragmatism\, Not Textualism; and Douglas Brinkley’s book\, Silent Spring Revolution;\nview a list of FAQs;\nsubmit a question for Justice Breyer (Please note: Time constraints limit the number of questions that will be selected for response.)\n\nREGISTER NOW \nPreceding the conversational program will be the first public showing of a 9-minute introduction to the feature documentary – Henry David Thoreau. The film\, by  Ewers Brothers Productions and Executive Producers Ken Burns and Don Henley\, is scheduled to air on PBS in 2026. \nSCHEDULE: \n5:15-5:30: Arrival \n5:40: Henry David Thoreau film introduction – presented by producers Erik Ewers and Chris Ewers \n6:00: Conversation with Justice Breyer moderated by Douglas Brinkley \n7:00-7:15: Q&A \nWe ask guests to arrive promptly between 5:15 and 5:30 p.m. \nThis event is sponsored by The Walden Woods Project in partnership with Lincoln250\, Concord250\, Bemis Free Lecture Series\, and Lincoln Historical Society. \n  \nIf you have questions or need more information about this event\, please email or call us at wwproject@walden.org\, or 781-259-4700. \nREGISTER NOW FOR THIS SPECIAL EVENT! We look forward to seeing you. \n  \nABOUT US… \nThe Walden Woods Project is a nonprofit organization committed to preserving the land\, literature\, and legacy of Henry David Thoreau through conservation\, education\, research and advocacy. The Project uses the land it has protected in Walden Woods to foster an ethic of environmental stewardship and social responsibility\, both cornerstones of Thoreau’s philosophy. We invite you to contact us at (781) 259-4700 or send us an e-mail using our Contact Form. \nThank you! \nThe Walden Woods Project \n44 Baker Farm Road \nLincoln\, MA 01773-3004 \n 
URL:https://visitconcord.org/event/conversation-with-the-honorable-stephen-breyer-and-historian-douglas-brinkley/
LOCATION:walden woods project\, 44 Baker Farm Road\, Lincoln\, MA\, United States
CATEGORIES:Concord250,Friends & Family of Residents,Historical Visitor
ATTACH;FMTTYPE=image/jpeg:https://visitconcord.org/wp-content/uploads/2025/04/lincolnevent-1.jpg
ORGANIZER;CN="Walden Woods Project":MAILTO:wwproject@walden.org
GEO:42.4343558;-71.3269754
X-APPLE-STRUCTURED-LOCATION;VALUE=URI;X-ADDRESS=walden woods project 44 Baker Farm Road Lincoln MA United States;X-APPLE-RADIUS=500;X-TITLE=44 Baker Farm Road:geo:-71.3269754,42.4343558
END:VEVENT
END:VCALENDAR