BEGIN:VCALENDAR
VERSION:2.0
PRODID:-//Visit Concord - ECPv6.15.20//NONSGML v1.0//EN
CALSCALE:GREGORIAN
METHOD:PUBLISH
X-WR-CALNAME:Visit Concord
X-ORIGINAL-URL:https://visitconcord.org
X-WR-CALDESC:Events for Visit Concord
REFRESH-INTERVAL;VALUE=DURATION:PT1H
X-Robots-Tag:noindex
X-PUBLISHED-TTL:PT1H
BEGIN:VTIMEZONE
TZID:America/New_York
BEGIN:DAYLIGHT
TZOFFSETFROM:-0500
TZOFFSETTO:-0400
TZNAME:EDT
DTSTART:20230312T070000
END:DAYLIGHT
BEGIN:STANDARD
TZOFFSETFROM:-0400
TZOFFSETTO:-0500
TZNAME:EST
DTSTART:20231105T060000
END:STANDARD
BEGIN:DAYLIGHT
TZOFFSETFROM:-0500
TZOFFSETTO:-0400
TZNAME:EDT
DTSTART:20240310T070000
END:DAYLIGHT
BEGIN:STANDARD
TZOFFSETFROM:-0400
TZOFFSETTO:-0500
TZNAME:EST
DTSTART:20241103T060000
END:STANDARD
BEGIN:DAYLIGHT
TZOFFSETFROM:-0500
TZOFFSETTO:-0400
TZNAME:EDT
DTSTART:20250309T070000
END:DAYLIGHT
BEGIN:STANDARD
TZOFFSETFROM:-0400
TZOFFSETTO:-0500
TZNAME:EST
DTSTART:20251102T060000
END:STANDARD
END:VTIMEZONE
BEGIN:VEVENT
DTSTART;TZID=America/New_York:20240427T150000
DTEND;TZID=America/New_York:20240427T163000
DTSTAMP:20260422T025338
CREATED:20240327T141840Z
LAST-MODIFIED:20240327T141840Z
UID:10015532-1714230000-1714235400@visitconcord.org
SUMMARY:Writing a Book When You Don't Know Where to Start at the Fowler Library
DESCRIPTION:Have you thought about writing a book\, but believe it’s only for professional writers? In this lighthearted presentation\, Dora will show you how everyday life\, such as parenting\, career challenges\, pets\, and health issues\, can be an inspiration to write your first (or next) book\, even if you never had any training in writing. You will also have a chance to check out Dora’s debut novel Choice\, (rated 5/5 by Readers’ Favorite!)\, a mother-daughter story from the perspective of a service dog.  SATURDAY\, APRIL 273:00—4:30 PM \nMeeting RoomFowler Library 1322 Main Street\, Concord\, MA\, 01742 \n\nDora Farkas\, PhD is an MIT-trained scientist author\, fusing science\, intuition and the wisdom of ancient civilizations into transformational adventure stories. An author of two books and the mother of two girls and a yellow Labrador\, Dora has coached graduate students in writing since 2009\, and has given writing workshops at many universities\, including MIT\, Tufts\, Boston University\, and the Scripps Research Institute.
URL:https://visitconcord.org/event/writing-a-book-when-you-dont-know-where-to-start-at-the-fowler-library/
LOCATION:Fowler Library
END:VEVENT
END:VCALENDAR