BEGIN:VCALENDAR
VERSION:2.0
PRODID:-//Visit Concord - ECPv6.15.20//NONSGML v1.0//EN
CALSCALE:GREGORIAN
METHOD:PUBLISH
X-WR-CALNAME:Visit Concord
X-ORIGINAL-URL:https://visitconcord.org
X-WR-CALDESC:Events for Visit Concord
REFRESH-INTERVAL;VALUE=DURATION:PT1H
X-Robots-Tag:noindex
X-PUBLISHED-TTL:PT1H
BEGIN:VTIMEZONE
TZID:America/New_York
BEGIN:DAYLIGHT
TZOFFSETFROM:-0500
TZOFFSETTO:-0400
TZNAME:EDT
DTSTART:20240310T070000
END:DAYLIGHT
BEGIN:STANDARD
TZOFFSETFROM:-0400
TZOFFSETTO:-0500
TZNAME:EST
DTSTART:20241103T060000
END:STANDARD
BEGIN:DAYLIGHT
TZOFFSETFROM:-0500
TZOFFSETTO:-0400
TZNAME:EDT
DTSTART:20250309T070000
END:DAYLIGHT
BEGIN:STANDARD
TZOFFSETFROM:-0400
TZOFFSETTO:-0500
TZNAME:EST
DTSTART:20251102T060000
END:STANDARD
BEGIN:DAYLIGHT
TZOFFSETFROM:-0500
TZOFFSETTO:-0400
TZNAME:EDT
DTSTART:20260308T070000
END:DAYLIGHT
BEGIN:STANDARD
TZOFFSETFROM:-0400
TZOFFSETTO:-0500
TZNAME:EST
DTSTART:20261101T060000
END:STANDARD
END:VTIMEZONE
BEGIN:VEVENT
DTSTART;TZID=America/New_York:20250503T160000
DTEND;TZID=America/New_York:20250503T180000
DTSTAMP:20260424T134111
CREATED:20240808T134356Z
LAST-MODIFIED:20250429T202428Z
UID:10017743-1746288000-1746295200@visitconcord.org
SUMMARY:Concord250 Event: Concord Women’s Chorus Concert: Still Heard Round the World: A Celebration of Music Written by and for Women
DESCRIPTION:The concert will feature two works commissioned by Concord Women’s Chorus:\n\n\nConcord Fragments\, a 2010 piece by renowned composer Libby Larsen\, three movements set to texts by three Concord women: Lidian Emerson\, from an 1843 letter to her husband\, Ralph Waldo Emerson; Martha Lawrence Prescott\, from an 1834 diary entry on her 18th birthday; and poet\, former CWC member and Concord resident Melissa Apperson\, from a poem inspired by Walden Pond. It is scored for women’s voices\, oboe\, clarinet\, and piano.\n\n\nGrown Wild (2021)\, by contemporary composer Melissa Dunphy\, based on a poem by Melissa Apperson\, scored for women’s voices\, piano\, and violin.\n\nWe have commissioned a new arrangement of The Concord Hymn\, using some or all of the instrumentalists from the program. This new arrangement will include audience singing participation\, emphasizing unity by creating a special version of The Concord Hymn that engages all of those gathered – audience and performer alike.
URL:https://visitconcord.org/event/concord-womens-chorus-concert-concord-fragments-a-celebration-of-music-written-by-and-for-women/
LOCATION:Trinity Episcopal Church\, Elm Street 81\, Concord\, MA\, 01742\, United States
CATEGORIES:Concord250,Friends & Family of Residents
ATTACH;FMTTYPE=image/png:https://visitconcord.org/wp-content/uploads/2024/08/may3-concert-women.png
GEO:42.4586445;-71.3644431
X-APPLE-STRUCTURED-LOCATION;VALUE=URI;X-ADDRESS=Trinity Episcopal Church Elm Street 81 Concord MA 01742 United States;X-APPLE-RADIUS=500;X-TITLE=Elm Street 81:geo:-71.3644431,42.4586445
END:VEVENT
BEGIN:VEVENT
DTSTART;TZID=America/New_York:20250323T150000
DTEND;TZID=America/New_York:20250323T170000
DTSTAMP:20260424T134111
CREATED:20241216T014234Z
LAST-MODIFIED:20250320T210503Z
UID:10018098-1742742000-1742749200@visitconcord.org
SUMMARY:Concord250 Event: Women’s Chorus: “Songs of the Revolution”
DESCRIPTION:Description:  To mark 250 years since the start of the American Revolution\, CWC member Diane Taraz traces the road to rebellion with songs enjoyed by ordinary people\, especially those often overlooked\, such as women and people of color. She presents lively ballads\, serene hymns\, bold marches\, passionate laments\, and songs created by both sides to promote either independence or loyalty to the crown. Dressed in a gown of the time\, she plays authentic instruments such as lap dulcimer and an “English guitar” of the type favored by women in the 18th century. Join her for a trip back in time. Suggested donation $20.\nLISTEN to Concord250 Podcast with Diane Taraz and Jane Ring Frank\nDiane is on the Scholarly Advisory Board of the Gilder Lehrman Institute of American History\, based in New York City. For over a decade she directed the Lexington Historical Society Colonial Singers. This is her second year with the Concord Women’s Chorus.
URL:https://visitconcord.org/event/concord-womens-chorus-songs-of-the-revolution/
LOCATION:First Parish Church (Parish Hall)\, 20 Lexington Rd\, Concord\, 01742\, United States
CATEGORIES:Arts & Culture,Concord250,Friends & Family of Residents
ATTACH;FMTTYPE=image/png:https://visitconcord.org/wp-content/uploads/2024/12/March23event.png
GEO:42.4595633;-71.3485184
X-APPLE-STRUCTURED-LOCATION;VALUE=URI;X-ADDRESS=First Parish Church (Parish Hall) 20 Lexington Rd Concord 01742 United States;X-APPLE-RADIUS=500;X-TITLE=20 Lexington Rd:geo:-71.3485184,42.4595633
END:VEVENT
END:VCALENDAR