BEGIN:VCALENDAR
VERSION:2.0
PRODID:-//Visit Concord - ECPv6.15.20//NONSGML v1.0//EN
CALSCALE:GREGORIAN
METHOD:PUBLISH
X-WR-CALNAME:Visit Concord
X-ORIGINAL-URL:https://visitconcord.org
X-WR-CALDESC:Events for Visit Concord
REFRESH-INTERVAL;VALUE=DURATION:PT1H
X-Robots-Tag:noindex
X-PUBLISHED-TTL:PT1H
BEGIN:VTIMEZONE
TZID:America/New_York
BEGIN:DAYLIGHT
TZOFFSETFROM:-0500
TZOFFSETTO:-0400
TZNAME:EDT
DTSTART:20240310T070000
END:DAYLIGHT
BEGIN:STANDARD
TZOFFSETFROM:-0400
TZOFFSETTO:-0500
TZNAME:EST
DTSTART:20241103T060000
END:STANDARD
BEGIN:DAYLIGHT
TZOFFSETFROM:-0500
TZOFFSETTO:-0400
TZNAME:EDT
DTSTART:20250309T070000
END:DAYLIGHT
BEGIN:STANDARD
TZOFFSETFROM:-0400
TZOFFSETTO:-0500
TZNAME:EST
DTSTART:20251102T060000
END:STANDARD
BEGIN:DAYLIGHT
TZOFFSETFROM:-0500
TZOFFSETTO:-0400
TZNAME:EDT
DTSTART:20260308T070000
END:DAYLIGHT
BEGIN:STANDARD
TZOFFSETFROM:-0400
TZOFFSETTO:-0500
TZNAME:EST
DTSTART:20261101T060000
END:STANDARD
END:VTIMEZONE
BEGIN:VEVENT
DTSTART;TZID=America/New_York:20250509T173000
DTEND;TZID=America/New_York:20250509T193000
DTSTAMP:20260423T150634
CREATED:20250322T020828Z
LAST-MODIFIED:20250322T020828Z
UID:10020724-1746811800-1746819000@visitconcord.org
SUMMARY:Concord Museum: Chemacheg Menuhki: Paddle Strong Opening Reception
DESCRIPTION:Co-curated with Brittney Peauwe Wunnepog Walley (Nipmuc)\, Chemacheg Menuhki: Paddle Strong is an exhibition that highlights regional Indigenous history and contemporary textile arts practices. Featuring a fiber basket woven by Walley\, Chemacheg Menuhki celebrates the continued presence and resilience of Indigenous communities today. \nJoin us for a talk with the artist\, opportunity to visit Chemacheg Menuhki\, and a reception. \nThe reception is free and open to the public\, but space is limited. Register in advance to reserve a space.
URL:https://visitconcord.org/event/concord-museum-chemacheg-menuhki-paddle-strong-opening-reception/
LOCATION:Concord Museum\, Cambridge Turnpike\, Concord\, Massachusetts\, 01742\, United States
CATEGORIES:Arts & Culture,Indigenous
ATTACH;FMTTYPE=image/png:https://visitconcord.org/wp-content/uploads/2025/03/Paddle-Strong-1732-x-1100.png
GEO:42.45765;-71.3420769
X-APPLE-STRUCTURED-LOCATION;VALUE=URI;X-ADDRESS=Concord Museum Cambridge Turnpike Concord Massachusetts 01742 United States;X-APPLE-RADIUS=500;X-TITLE=Cambridge Turnpike:geo:-71.3420769,42.45765
END:VEVENT
END:VCALENDAR