BEGIN:VCALENDAR
VERSION:2.0
PRODID:-//Visit Concord - ECPv6.15.20//NONSGML v1.0//EN
CALSCALE:GREGORIAN
METHOD:PUBLISH
X-WR-CALNAME:Visit Concord
X-ORIGINAL-URL:https://visitconcord.org
X-WR-CALDESC:Events for Visit Concord
REFRESH-INTERVAL;VALUE=DURATION:PT1H
X-Robots-Tag:noindex
X-PUBLISHED-TTL:PT1H
BEGIN:VTIMEZONE
TZID:America/New_York
BEGIN:DAYLIGHT
TZOFFSETFROM:-0500
TZOFFSETTO:-0400
TZNAME:EDT
DTSTART:20240310T070000
END:DAYLIGHT
BEGIN:STANDARD
TZOFFSETFROM:-0400
TZOFFSETTO:-0500
TZNAME:EST
DTSTART:20241103T060000
END:STANDARD
BEGIN:DAYLIGHT
TZOFFSETFROM:-0500
TZOFFSETTO:-0400
TZNAME:EDT
DTSTART:20250309T070000
END:DAYLIGHT
BEGIN:STANDARD
TZOFFSETFROM:-0400
TZOFFSETTO:-0500
TZNAME:EST
DTSTART:20251102T060000
END:STANDARD
BEGIN:DAYLIGHT
TZOFFSETFROM:-0500
TZOFFSETTO:-0400
TZNAME:EDT
DTSTART:20260308T070000
END:DAYLIGHT
BEGIN:STANDARD
TZOFFSETFROM:-0400
TZOFFSETTO:-0500
TZNAME:EST
DTSTART:20261101T060000
END:STANDARD
END:VTIMEZONE
BEGIN:VEVENT
DTSTART;VALUE=DATE:20250405
DTEND;VALUE=DATE:20250406
DTSTAMP:20260423T144523
CREATED:20241118T013912Z
LAST-MODIFIED:20250430T104500Z
UID:10018036-1743811200-1743897599@visitconcord.org
SUMMARY:Concord250 Event: Professor Michael Halltem :Concord and the Memory of the  American Revolution
DESCRIPTION:April 5\, 2025 afternoon\nProfessor Michael Halltem :Concord and the Memory of the \nAmerican Revolution\n\nInfo to follow\n\n 
URL:https://visitconcord.org/event/concord250-event-professor-michael-halltem-concord-and-the-memory-of-the-american-revolution/
LOCATION:Massachusetts
CATEGORIES:Arts & Culture,Concord250,Friends & Family of Residents,Indigenous
ATTACH;FMTTYPE=image/png:https://visitconcord.org/wp-content/uploads/2024/08/concord250event.png
END:VEVENT
END:VCALENDAR