BEGIN:VCALENDAR
VERSION:2.0
PRODID:-//Visit Concord - ECPv6.15.20//NONSGML v1.0//EN
CALSCALE:GREGORIAN
METHOD:PUBLISH
X-WR-CALNAME:Visit Concord
X-ORIGINAL-URL:https://visitconcord.org
X-WR-CALDESC:Events for Visit Concord
REFRESH-INTERVAL;VALUE=DURATION:PT1H
X-Robots-Tag:noindex
X-PUBLISHED-TTL:PT1H
BEGIN:VTIMEZONE
TZID:America/New_York
BEGIN:DAYLIGHT
TZOFFSETFROM:-0500
TZOFFSETTO:-0400
TZNAME:EDT
DTSTART:20230312T070000
END:DAYLIGHT
BEGIN:STANDARD
TZOFFSETFROM:-0400
TZOFFSETTO:-0500
TZNAME:EST
DTSTART:20231105T060000
END:STANDARD
BEGIN:DAYLIGHT
TZOFFSETFROM:-0500
TZOFFSETTO:-0400
TZNAME:EDT
DTSTART:20240310T070000
END:DAYLIGHT
BEGIN:STANDARD
TZOFFSETFROM:-0400
TZOFFSETTO:-0500
TZNAME:EST
DTSTART:20241103T060000
END:STANDARD
BEGIN:DAYLIGHT
TZOFFSETFROM:-0500
TZOFFSETTO:-0400
TZNAME:EDT
DTSTART:20250309T070000
END:DAYLIGHT
BEGIN:STANDARD
TZOFFSETFROM:-0400
TZOFFSETTO:-0500
TZNAME:EST
DTSTART:20251102T060000
END:STANDARD
END:VTIMEZONE
BEGIN:VEVENT
DTSTART;TZID=America/New_York:20240228T090000
DTEND;TZID=America/New_York:20240324T210000
DTSTAMP:20260424T104036
CREATED:20240312T165950Z
LAST-MODIFIED:20240312T165950Z
UID:10015161-1709110800-1711314000@visitconcord.org
SUMMARY:Portraits in Red: Missing & Murdered Indigenous Painting Project
DESCRIPTION:The MMIP Painting Project began not as a project at all but with the intent of it being just one painting to show support for the Missing & Murdered indigenous peoples crisis. Artist Nayana laFond created the first painting on May 5\, 2020\, the day of remembrance for MMIP. She shared it ontine and the response was so overwhelming she did one more\, yet again intending that to be the end. The response to the second was even more and so Nayana opened her inbox to anyone wanting to be painted not expecting the 25+ the received the first day.Stories and images of loved ones missing\, murdered\, survivors and advocates/activists. It was then that it became a project when Nayana decided to paint them all and they didn’t stop coming. As of February 2024 there is now 110 completed paintings and a constant queue. \nThe paintings are done in black and white with red being the only color visible because many indigenous groups believe red is the only color spirits can see. The hand over the mouths symbolizes being silenced. \nNayana  is a domestic violence survivor and feels compelled to do this work to raise awareness and promote change and healing. The paintings are done for free and Nayana does not profit monetarily  from the creation or sale of these works. She donates any profits to the National Indigenous Women’s Resource Center (NIWRC.org). In lieu of taking monetary donations\, she asks people to donate to any of the many organizations working with families and toward change.
URL:https://visitconcord.org/event/portraits-in-red-missing-murdered-indigenous-painting-project/
LOCATION:The Umbrella Arts Center\, 40 Stow Street\, Concord\, MA\, 01742\, United States
CATEGORIES:Arts & Culture,Indigenous
ATTACH;FMTTYPE=image/png:https://visitconcord.org/wp-content/uploads/2024/03/Screen-Shot-2024-02-27-at-12.56.42-PM.png
ORGANIZER;CN="The Umbrella Arts Center":MAILTO:info@theumbrellaarts.org
GEO:42.457531;-71.3525046
X-APPLE-STRUCTURED-LOCATION;VALUE=URI;X-ADDRESS=The Umbrella Arts Center 40 Stow Street Concord MA 01742 United States;X-APPLE-RADIUS=500;X-TITLE=40 Stow Street:geo:-71.3525046,42.457531
END:VEVENT
END:VCALENDAR