BEGIN:VCALENDAR
VERSION:2.0
PRODID:-//Visit Concord - ECPv6.15.20//NONSGML v1.0//EN
CALSCALE:GREGORIAN
METHOD:PUBLISH
X-WR-CALNAME:Visit Concord
X-ORIGINAL-URL:https://visitconcord.org
X-WR-CALDESC:Events for Visit Concord
REFRESH-INTERVAL;VALUE=DURATION:PT1H
X-Robots-Tag:noindex
X-PUBLISHED-TTL:PT1H
BEGIN:VTIMEZONE
TZID:America/New_York
BEGIN:DAYLIGHT
TZOFFSETFROM:-0500
TZOFFSETTO:-0400
TZNAME:EDT
DTSTART:20260308T070000
END:DAYLIGHT
BEGIN:STANDARD
TZOFFSETFROM:-0400
TZOFFSETTO:-0500
TZNAME:EST
DTSTART:20261101T060000
END:STANDARD
BEGIN:DAYLIGHT
TZOFFSETFROM:-0500
TZOFFSETTO:-0400
TZNAME:EDT
DTSTART:20270314T070000
END:DAYLIGHT
BEGIN:STANDARD
TZOFFSETFROM:-0400
TZOFFSETTO:-0500
TZNAME:EST
DTSTART:20271107T060000
END:STANDARD
BEGIN:DAYLIGHT
TZOFFSETFROM:-0500
TZOFFSETTO:-0400
TZNAME:EDT
DTSTART:20280312T070000
END:DAYLIGHT
BEGIN:STANDARD
TZOFFSETFROM:-0400
TZOFFSETTO:-0500
TZNAME:EST
DTSTART:20281105T060000
END:STANDARD
END:VTIMEZONE
BEGIN:VEVENT
DTSTART;TZID=America/New_York:20270104T130000
DTEND;TZID=America/New_York:20270104T160000
DTSTAMP:20260423T184919
CREATED:20251205T131110Z
LAST-MODIFIED:20251205T131110Z
UID:10021915-1799067600-1799078400@visitconcord.org
SUMMARY:Small Acts\, Big Impacts: A Day of Service at Discovery Museum
DESCRIPTION:Martin Luther King Jr. Day is a designated National Day of Service\, to encourage all Americans to volunteer within their communities and honor the life and legacy of the Civil Rights leader. Join the Discovery Museum as we engage in small acts of service to benefit our neighbors. Participate in a donation drive (details coming soon) and create handmade welcome cards to benefit the Refugee & Immigrant Assistance Center\, a local nonprofit that supports children and families experiencing resettlement.
URL:https://visitconcord.org/event/small-acts-big-impacts-a-day-of-service-at-discovery-museum-3/2027-01-04/
LOCATION:Discovery Museum\, 177 Main St.\, Acton\, 01720
CATEGORIES:Children
ATTACH;FMTTYPE=image/png:https://visitconcord.org/wp-content/uploads/2025/12/MLK-Small-Acts-Big-Impacts-web-graphic.png
ORGANIZER;CN="Discovery Museum":MAILTO:discoveryacton.org
GEO:42.464173;-71.4551213
X-APPLE-STRUCTURED-LOCATION;VALUE=URI;X-ADDRESS=Discovery Museum 177 Main St. Acton 01720;X-APPLE-RADIUS=500;X-TITLE=177 Main St.:geo:-71.4551213,42.464173
END:VEVENT
BEGIN:VEVENT
DTSTART;TZID=America/New_York:20270105T130000
DTEND;TZID=America/New_York:20270105T160000
DTSTAMP:20260423T184919
CREATED:20251205T131110Z
LAST-MODIFIED:20251205T131110Z
UID:10021916-1799154000-1799164800@visitconcord.org
SUMMARY:Small Acts\, Big Impacts: A Day of Service at Discovery Museum
DESCRIPTION:Martin Luther King Jr. Day is a designated National Day of Service\, to encourage all Americans to volunteer within their communities and honor the life and legacy of the Civil Rights leader. Join the Discovery Museum as we engage in small acts of service to benefit our neighbors. Participate in a donation drive (details coming soon) and create handmade welcome cards to benefit the Refugee & Immigrant Assistance Center\, a local nonprofit that supports children and families experiencing resettlement.
URL:https://visitconcord.org/event/small-acts-big-impacts-a-day-of-service-at-discovery-museum-3/2027-01-05/
LOCATION:Discovery Museum\, 177 Main St.\, Acton\, 01720
CATEGORIES:Children
ATTACH;FMTTYPE=image/png:https://visitconcord.org/wp-content/uploads/2025/12/MLK-Small-Acts-Big-Impacts-web-graphic.png
ORGANIZER;CN="Discovery Museum":MAILTO:discoveryacton.org
GEO:42.464173;-71.4551213
X-APPLE-STRUCTURED-LOCATION;VALUE=URI;X-ADDRESS=Discovery Museum 177 Main St. Acton 01720;X-APPLE-RADIUS=500;X-TITLE=177 Main St.:geo:-71.4551213,42.464173
END:VEVENT
BEGIN:VEVENT
DTSTART;TZID=America/New_York:20270106T130000
DTEND;TZID=America/New_York:20270106T160000
DTSTAMP:20260423T184919
CREATED:20251205T131110Z
LAST-MODIFIED:20251205T131110Z
UID:10021917-1799240400-1799251200@visitconcord.org
SUMMARY:Small Acts\, Big Impacts: A Day of Service at Discovery Museum
DESCRIPTION:Martin Luther King Jr. Day is a designated National Day of Service\, to encourage all Americans to volunteer within their communities and honor the life and legacy of the Civil Rights leader. Join the Discovery Museum as we engage in small acts of service to benefit our neighbors. Participate in a donation drive (details coming soon) and create handmade welcome cards to benefit the Refugee & Immigrant Assistance Center\, a local nonprofit that supports children and families experiencing resettlement.
URL:https://visitconcord.org/event/small-acts-big-impacts-a-day-of-service-at-discovery-museum-3/2027-01-06/
LOCATION:Discovery Museum\, 177 Main St.\, Acton\, 01720
CATEGORIES:Children
ATTACH;FMTTYPE=image/png:https://visitconcord.org/wp-content/uploads/2025/12/MLK-Small-Acts-Big-Impacts-web-graphic.png
ORGANIZER;CN="Discovery Museum":MAILTO:discoveryacton.org
GEO:42.464173;-71.4551213
X-APPLE-STRUCTURED-LOCATION;VALUE=URI;X-ADDRESS=Discovery Museum 177 Main St. Acton 01720;X-APPLE-RADIUS=500;X-TITLE=177 Main St.:geo:-71.4551213,42.464173
END:VEVENT
BEGIN:VEVENT
DTSTART;TZID=America/New_York:20270107T130000
DTEND;TZID=America/New_York:20270107T160000
DTSTAMP:20260423T184919
CREATED:20251205T131110Z
LAST-MODIFIED:20251205T131110Z
UID:10021918-1799326800-1799337600@visitconcord.org
SUMMARY:Small Acts\, Big Impacts: A Day of Service at Discovery Museum
DESCRIPTION:Martin Luther King Jr. Day is a designated National Day of Service\, to encourage all Americans to volunteer within their communities and honor the life and legacy of the Civil Rights leader. Join the Discovery Museum as we engage in small acts of service to benefit our neighbors. Participate in a donation drive (details coming soon) and create handmade welcome cards to benefit the Refugee & Immigrant Assistance Center\, a local nonprofit that supports children and families experiencing resettlement.
URL:https://visitconcord.org/event/small-acts-big-impacts-a-day-of-service-at-discovery-museum-3/2027-01-07/
LOCATION:Discovery Museum\, 177 Main St.\, Acton\, 01720
CATEGORIES:Children
ATTACH;FMTTYPE=image/png:https://visitconcord.org/wp-content/uploads/2025/12/MLK-Small-Acts-Big-Impacts-web-graphic.png
ORGANIZER;CN="Discovery Museum":MAILTO:discoveryacton.org
GEO:42.464173;-71.4551213
X-APPLE-STRUCTURED-LOCATION;VALUE=URI;X-ADDRESS=Discovery Museum 177 Main St. Acton 01720;X-APPLE-RADIUS=500;X-TITLE=177 Main St.:geo:-71.4551213,42.464173
END:VEVENT
BEGIN:VEVENT
DTSTART;TZID=America/New_York:20270108T130000
DTEND;TZID=America/New_York:20270108T160000
DTSTAMP:20260423T184919
CREATED:20251205T131110Z
LAST-MODIFIED:20251205T131110Z
UID:10021919-1799413200-1799424000@visitconcord.org
SUMMARY:Small Acts\, Big Impacts: A Day of Service at Discovery Museum
DESCRIPTION:Martin Luther King Jr. Day is a designated National Day of Service\, to encourage all Americans to volunteer within their communities and honor the life and legacy of the Civil Rights leader. Join the Discovery Museum as we engage in small acts of service to benefit our neighbors. Participate in a donation drive (details coming soon) and create handmade welcome cards to benefit the Refugee & Immigrant Assistance Center\, a local nonprofit that supports children and families experiencing resettlement.
URL:https://visitconcord.org/event/small-acts-big-impacts-a-day-of-service-at-discovery-museum-3/2027-01-08/
LOCATION:Discovery Museum\, 177 Main St.\, Acton\, 01720
CATEGORIES:Children
ATTACH;FMTTYPE=image/png:https://visitconcord.org/wp-content/uploads/2025/12/MLK-Small-Acts-Big-Impacts-web-graphic.png
ORGANIZER;CN="Discovery Museum":MAILTO:discoveryacton.org
GEO:42.464173;-71.4551213
X-APPLE-STRUCTURED-LOCATION;VALUE=URI;X-ADDRESS=Discovery Museum 177 Main St. Acton 01720;X-APPLE-RADIUS=500;X-TITLE=177 Main St.:geo:-71.4551213,42.464173
END:VEVENT
BEGIN:VEVENT
DTSTART;TZID=America/New_York:20270109T130000
DTEND;TZID=America/New_York:20270109T160000
DTSTAMP:20260423T184919
CREATED:20251205T131110Z
LAST-MODIFIED:20251205T131110Z
UID:10021920-1799499600-1799510400@visitconcord.org
SUMMARY:Small Acts\, Big Impacts: A Day of Service at Discovery Museum
DESCRIPTION:Martin Luther King Jr. Day is a designated National Day of Service\, to encourage all Americans to volunteer within their communities and honor the life and legacy of the Civil Rights leader. Join the Discovery Museum as we engage in small acts of service to benefit our neighbors. Participate in a donation drive (details coming soon) and create handmade welcome cards to benefit the Refugee & Immigrant Assistance Center\, a local nonprofit that supports children and families experiencing resettlement.
URL:https://visitconcord.org/event/small-acts-big-impacts-a-day-of-service-at-discovery-museum-3/2027-01-09/
LOCATION:Discovery Museum\, 177 Main St.\, Acton\, 01720
CATEGORIES:Children
ATTACH;FMTTYPE=image/png:https://visitconcord.org/wp-content/uploads/2025/12/MLK-Small-Acts-Big-Impacts-web-graphic.png
ORGANIZER;CN="Discovery Museum":MAILTO:discoveryacton.org
GEO:42.464173;-71.4551213
X-APPLE-STRUCTURED-LOCATION;VALUE=URI;X-ADDRESS=Discovery Museum 177 Main St. Acton 01720;X-APPLE-RADIUS=500;X-TITLE=177 Main St.:geo:-71.4551213,42.464173
END:VEVENT
BEGIN:VEVENT
DTSTART;TZID=America/New_York:20270110T130000
DTEND;TZID=America/New_York:20270110T160000
DTSTAMP:20260423T184919
CREATED:20251205T131110Z
LAST-MODIFIED:20251205T131110Z
UID:10021921-1799586000-1799596800@visitconcord.org
SUMMARY:Small Acts\, Big Impacts: A Day of Service at Discovery Museum
DESCRIPTION:Martin Luther King Jr. Day is a designated National Day of Service\, to encourage all Americans to volunteer within their communities and honor the life and legacy of the Civil Rights leader. Join the Discovery Museum as we engage in small acts of service to benefit our neighbors. Participate in a donation drive (details coming soon) and create handmade welcome cards to benefit the Refugee & Immigrant Assistance Center\, a local nonprofit that supports children and families experiencing resettlement.
URL:https://visitconcord.org/event/small-acts-big-impacts-a-day-of-service-at-discovery-museum-3/2027-01-10/
LOCATION:Discovery Museum\, 177 Main St.\, Acton\, 01720
CATEGORIES:Children
ATTACH;FMTTYPE=image/png:https://visitconcord.org/wp-content/uploads/2025/12/MLK-Small-Acts-Big-Impacts-web-graphic.png
ORGANIZER;CN="Discovery Museum":MAILTO:discoveryacton.org
GEO:42.464173;-71.4551213
X-APPLE-STRUCTURED-LOCATION;VALUE=URI;X-ADDRESS=Discovery Museum 177 Main St. Acton 01720;X-APPLE-RADIUS=500;X-TITLE=177 Main St.:geo:-71.4551213,42.464173
END:VEVENT
END:VCALENDAR