BEGIN:VCALENDAR
VERSION:2.0
PRODID:-//Visit Concord - ECPv6.15.20//NONSGML v1.0//EN
CALSCALE:GREGORIAN
METHOD:PUBLISH
X-WR-CALNAME:Visit Concord
X-ORIGINAL-URL:https://visitconcord.org
X-WR-CALDESC:Events for Visit Concord
REFRESH-INTERVAL;VALUE=DURATION:PT1H
X-Robots-Tag:noindex
X-PUBLISHED-TTL:PT1H
BEGIN:VTIMEZONE
TZID:America/New_York
BEGIN:DAYLIGHT
TZOFFSETFROM:-0500
TZOFFSETTO:-0400
TZNAME:EDT
DTSTART:20250309T070000
END:DAYLIGHT
BEGIN:STANDARD
TZOFFSETFROM:-0400
TZOFFSETTO:-0500
TZNAME:EST
DTSTART:20251102T060000
END:STANDARD
BEGIN:DAYLIGHT
TZOFFSETFROM:-0500
TZOFFSETTO:-0400
TZNAME:EDT
DTSTART:20260308T070000
END:DAYLIGHT
BEGIN:STANDARD
TZOFFSETFROM:-0400
TZOFFSETTO:-0500
TZNAME:EST
DTSTART:20261101T060000
END:STANDARD
BEGIN:DAYLIGHT
TZOFFSETFROM:-0500
TZOFFSETTO:-0400
TZNAME:EDT
DTSTART:20270314T070000
END:DAYLIGHT
BEGIN:STANDARD
TZOFFSETFROM:-0400
TZOFFSETTO:-0500
TZNAME:EST
DTSTART:20271107T060000
END:STANDARD
END:VTIMEZONE
BEGIN:VEVENT
DTSTART;TZID=America/New_York:20260420T090000
DTEND;TZID=America/New_York:20260420T170000
DTSTAMP:20260422T141208
CREATED:20260218T232843Z
LAST-MODIFIED:20260311T233809Z
UID:10022059-1776675600-1776704400@visitconcord.org
SUMMARY:2026 Patriots' Day Parade and Celebration
DESCRIPTION:2026 Patriots’ Day Parade and Celebration\nThe Concord Patriots’ Day Parade is one of the nation’s oldest celebrations of the first shot of the American Revolution\, attracting visitors from around the world. \nConcord will celebrate Patriots’ Day on Monday\, April 20th but events are happening beginning April 17. \n \n  \nPatriots’ Day Weekend in Concord: \nFRIDAY\, APRIL 17\, 2026: \nPatriot Vigil: 7:45-8:30PM\, North Bridge \nSUNDAY\, April 19: \nDawn Salute\nMuster at Buttrick Hillside at 5:45am\,\n6am Dawn Salute \nChurch bells at the First Parish toll at 6:00 AM to sound the alarm.\n“Dr. Prescott” arrives at the North Bridge after riding across the fields calling out the warning to towns and villages that the Regulars were on the march and that their destination was Concord. The Concord Minutemen fire salutes and the Concord Independent Battery fire several volleys from the field at the Old Manse. \nMONDAY\, April 20: \n9 AM Patriots’ Day Parade \nImmediately following the parade until 3 PM – Block Party \n3 PM: Patriots Day Battle –  CCHS vs. Lexington High School Baseball Game at Emerson Field \nBring the family and support the local nine as the CCHS and Lexington HS baseball teams play their annual Patriots Day Battle rivalry game on Monday\, April 20.  First pitch is at 3:00 on Emerson Field.  There will be festive and special touches throughout the game\, including a Minuteman salute to start the game and wiffle ball for kids after.\n\nAdmission is free and donations in support of Folds of Honor will be collected during the game.
URL:https://visitconcord.org/event/patriots-day-parade-and-celebration/
LOCATION:Concord Center
CATEGORIES:Arts & Culture,Children,Concord250,Food,Friends & Family of Residents,Historical Visitor,Holiday
ATTACH;FMTTYPE=image/jpeg:https://visitconcord.org/wp-content/uploads/2024/03/patriots-day.jpg
GEO:42.4602006;-71.3509612
END:VEVENT
BEGIN:VEVENT
DTSTART;TZID=America/New_York:20260420T100000
DTEND;TZID=America/New_York:20260420T120000
DTSTAMP:20260422T141208
CREATED:20260326T194624Z
LAST-MODIFIED:20260326T194624Z
UID:10022132-1776679200-1776686400@visitconcord.org
SUMMARY:"Every Rock Has A Story" with Professor Ethan Baxter at Discovery Museum
DESCRIPTION:Join us for a rocky twist on Storytime with Ethan Baxter\, Boston College Professor of Earth and Environmental Sciences and host of “Every Rock Has a Story” on YouTube. We will explore the surprising stories locked inside dazzling rocks and minerals; feel free to bring your own!
URL:https://visitconcord.org/event/every-rock-has-a-story-with-professor-ethan-baxter-at-discovery-museum/
LOCATION:Discovery Museum\, 177 Main St.\, Acton\, 01720
CATEGORIES:Children
ATTACH;FMTTYPE=image/jpeg:https://visitconcord.org/wp-content/uploads/2026/03/Ethan-Baxter-pic-sm.jpg
ORGANIZER;CN="Discovery Museum":MAILTO:discoveryacton.org
GEO:42.464173;-71.4551213
X-APPLE-STRUCTURED-LOCATION;VALUE=URI;X-ADDRESS=Discovery Museum 177 Main St. Acton 01720;X-APPLE-RADIUS=500;X-TITLE=177 Main St.:geo:-71.4551213,42.464173
END:VEVENT
BEGIN:VEVENT
DTSTART;TZID=America/New_York:20260420T100000
DTEND;TZID=America/New_York:20260420T150000
DTSTAMP:20260422T141208
CREATED:20260326T131529Z
LAST-MODIFIED:20260326T131529Z
UID:10022124-1776679200-1776697200@visitconcord.org
SUMMARY:Earth Week at Discovery Museum!
DESCRIPTION:Join us this April school vacation week to celebrate and connect with nature!  All week we will be exploring our connection to the Earth through science\, art\, and play. \nSpecial Earth Week programs run daily from 10:00am – 12:00pm & 1:00pm – 3:00pm. See daily schedule for details.
URL:https://visitconcord.org/event/earth-week-at-discovery-museum/2026-04-20/
LOCATION:Discovery Museum\, 177 Main St.\, Acton\, 01720
CATEGORIES:Children
ATTACH;FMTTYPE=image/png:https://visitconcord.org/wp-content/uploads/2026/03/Earth-Week-2026.png
ORGANIZER;CN="Discovery Museum":MAILTO:discoveryacton.org
GEO:42.464173;-71.4551213
X-APPLE-STRUCTURED-LOCATION;VALUE=URI;X-ADDRESS=Discovery Museum 177 Main St. Acton 01720;X-APPLE-RADIUS=500;X-TITLE=177 Main St.:geo:-71.4551213,42.464173
END:VEVENT
BEGIN:VEVENT
DTSTART;TZID=America/New_York:20260420T130000
DTEND;TZID=America/New_York:20260420T150000
DTSTAMP:20260422T141208
CREATED:20260406T132511Z
LAST-MODIFIED:20260406T134234Z
UID:10022151-1776690000-1776697200@visitconcord.org
SUMMARY:Patriots' Day Play: Monumental Square
DESCRIPTION:Join in the celebration!\n\n\n\n\n\n\n\n\n\n\n\n\n\nAfter the April 20th Patriots’ Day Parade\, step into Monumental Square — a one-of-a-kind living history experience where Thoreau\, Louisa May Alcott\, Gandhi\, MLK Jr.\, and other unexpected figures lead you through Monument Square in a mini-parade like no other.\n📅 Monday\, April 20 | 1pm & 2pm\n📍 Meet across from the Colonial Inn\n🎟️ Reservations requested | Weather permitting\nBased on the forthcoming book The Concord Spirit Parade\, and returning for its Second Annual performance.\n#concord250 #concordma250th
URL:https://visitconcord.org/event/patriots-day-play-monumental-square/
LOCATION:Monument Square\, Concord\, MA\, 01742\, United States
CATEGORIES:Arts & Culture,Children,Concord250,Friends & Family of Residents,Historical Visitor,Holiday
ATTACH;FMTTYPE=image/png:https://visitconcord.org/wp-content/uploads/2026/04/patriotsday-play-tammyrose.png
GEO:42.4527187;-71.3705616
END:VEVENT
BEGIN:VEVENT
DTSTART;TZID=America/New_York:20260420T130000
DTEND;TZID=America/New_York:20260420T160000
DTSTAMP:20260422T141208
CREATED:20251205T131110Z
LAST-MODIFIED:20251205T131110Z
UID:10021656-1776690000-1776700800@visitconcord.org
SUMMARY:Small Acts\, Big Impacts: A Day of Service at Discovery Museum
DESCRIPTION:Martin Luther King Jr. Day is a designated National Day of Service\, to encourage all Americans to volunteer within their communities and honor the life and legacy of the Civil Rights leader. Join the Discovery Museum as we engage in small acts of service to benefit our neighbors. Participate in a donation drive (details coming soon) and create handmade welcome cards to benefit the Refugee & Immigrant Assistance Center\, a local nonprofit that supports children and families experiencing resettlement.
URL:https://visitconcord.org/event/small-acts-big-impacts-a-day-of-service-at-discovery-museum-3/2026-04-20/
LOCATION:Discovery Museum\, 177 Main St.\, Acton\, 01720
CATEGORIES:Children
ATTACH;FMTTYPE=image/png:https://visitconcord.org/wp-content/uploads/2025/12/MLK-Small-Acts-Big-Impacts-web-graphic.png
ORGANIZER;CN="Discovery Museum":MAILTO:discoveryacton.org
GEO:42.464173;-71.4551213
X-APPLE-STRUCTURED-LOCATION;VALUE=URI;X-ADDRESS=Discovery Museum 177 Main St. Acton 01720;X-APPLE-RADIUS=500;X-TITLE=177 Main St.:geo:-71.4551213,42.464173
END:VEVENT
BEGIN:VEVENT
DTSTART;TZID=America/New_York:20260420T150000
DTEND;TZID=America/New_York:20260420T170000
DTSTAMP:20260422T141208
CREATED:20260310T111709Z
LAST-MODIFIED:20260406T141822Z
UID:10022089-1776697200-1776704400@visitconcord.org
SUMMARY:Patriots' Day Battle - Baseball Game at Emerson Field
DESCRIPTION:Bring the family and support the local nine as the CCHS and Lexington HS baseball teams play their annual Patriots Day Battle rivalry game on Monday\, April 20.  First pitch is at 3:00 on Emerson Field.  There will be festive and special touches throughout the game\, including a Minuteman salute to start the game and wiffle ball for kids after.\n\nAdmission is free and donations in support of Folds of Honor will be collected during the game.
URL:https://visitconcord.org/event/patriots-day-battle-baseball-game-at-emerson-field/
LOCATION:Emerson Field\, Concord
CATEGORIES:Children,Concord250,Food,Friends & Family of Residents
ATTACH;FMTTYPE=image/png:https://visitconcord.org/wp-content/uploads/2026/04/patriots-baseball-2026.png
END:VEVENT
BEGIN:VEVENT
DTSTART;TZID=America/New_York:20260421T100000
DTEND;TZID=America/New_York:20260421T150000
DTSTAMP:20260422T141208
CREATED:20260326T131529Z
LAST-MODIFIED:20260326T131529Z
UID:10022125-1776765600-1776783600@visitconcord.org
SUMMARY:Earth Week at Discovery Museum!
DESCRIPTION:Join us this April school vacation week to celebrate and connect with nature!  All week we will be exploring our connection to the Earth through science\, art\, and play. \nSpecial Earth Week programs run daily from 10:00am – 12:00pm & 1:00pm – 3:00pm. See daily schedule for details.
URL:https://visitconcord.org/event/earth-week-at-discovery-museum/2026-04-21/
LOCATION:Discovery Museum\, 177 Main St.\, Acton\, 01720
CATEGORIES:Children
ATTACH;FMTTYPE=image/png:https://visitconcord.org/wp-content/uploads/2026/03/Earth-Week-2026.png
ORGANIZER;CN="Discovery Museum":MAILTO:discoveryacton.org
GEO:42.464173;-71.4551213
X-APPLE-STRUCTURED-LOCATION;VALUE=URI;X-ADDRESS=Discovery Museum 177 Main St. Acton 01720;X-APPLE-RADIUS=500;X-TITLE=177 Main St.:geo:-71.4551213,42.464173
END:VEVENT
BEGIN:VEVENT
DTSTART;TZID=America/New_York:20260421T130000
DTEND;TZID=America/New_York:20260421T150000
DTSTAMP:20260422T141208
CREATED:20260326T194610Z
LAST-MODIFIED:20260326T194610Z
UID:10022133-1776776400-1776783600@visitconcord.org
SUMMARY:Meet the Artist: Sarah Spencer at Discovery Museum
DESCRIPTION:Join local artist Sarah Spencer for an adventure in art and science with cyanotype\, an old-fashioned process that prints photos in blue tones using UV light and water. Create your own print and watch as it comes to life\, changing colors right before your eyes. Connect with nature by using pressed flowers\, ferns\, and leaves\, or get creative with photo negatives and found objects. Inclement weather may result in changes to the program or cancellation.
URL:https://visitconcord.org/event/meet-the-artist-sarah-spencer-at-discovery-museum-2/
LOCATION:Discovery Museum\, 177 Main St.\, Acton\, 01720
CATEGORIES:Arts & Culture,Children
ATTACH;FMTTYPE=image/jpeg:https://visitconcord.org/wp-content/uploads/2026/03/Sarah-Spencer.jpg
ORGANIZER;CN="Discovery Museum":MAILTO:discoveryacton.org
GEO:42.464173;-71.4551213
X-APPLE-STRUCTURED-LOCATION;VALUE=URI;X-ADDRESS=Discovery Museum 177 Main St. Acton 01720;X-APPLE-RADIUS=500;X-TITLE=177 Main St.:geo:-71.4551213,42.464173
END:VEVENT
BEGIN:VEVENT
DTSTART;TZID=America/New_York:20260421T130000
DTEND;TZID=America/New_York:20260421T160000
DTSTAMP:20260422T141208
CREATED:20251205T131110Z
LAST-MODIFIED:20251205T131110Z
UID:10021657-1776776400-1776787200@visitconcord.org
SUMMARY:Small Acts\, Big Impacts: A Day of Service at Discovery Museum
DESCRIPTION:Martin Luther King Jr. Day is a designated National Day of Service\, to encourage all Americans to volunteer within their communities and honor the life and legacy of the Civil Rights leader. Join the Discovery Museum as we engage in small acts of service to benefit our neighbors. Participate in a donation drive (details coming soon) and create handmade welcome cards to benefit the Refugee & Immigrant Assistance Center\, a local nonprofit that supports children and families experiencing resettlement.
URL:https://visitconcord.org/event/small-acts-big-impacts-a-day-of-service-at-discovery-museum-3/2026-04-21/
LOCATION:Discovery Museum\, 177 Main St.\, Acton\, 01720
CATEGORIES:Children
ATTACH;FMTTYPE=image/png:https://visitconcord.org/wp-content/uploads/2025/12/MLK-Small-Acts-Big-Impacts-web-graphic.png
ORGANIZER;CN="Discovery Museum":MAILTO:discoveryacton.org
GEO:42.464173;-71.4551213
X-APPLE-STRUCTURED-LOCATION;VALUE=URI;X-ADDRESS=Discovery Museum 177 Main St. Acton 01720;X-APPLE-RADIUS=500;X-TITLE=177 Main St.:geo:-71.4551213,42.464173
END:VEVENT
BEGIN:VEVENT
DTSTART;TZID=America/New_York:20260422T100000
DTEND;TZID=America/New_York:20260422T150000
DTSTAMP:20260422T141208
CREATED:20260326T131529Z
LAST-MODIFIED:20260326T131529Z
UID:10022126-1776852000-1776870000@visitconcord.org
SUMMARY:Earth Week at Discovery Museum!
DESCRIPTION:Join us this April school vacation week to celebrate and connect with nature!  All week we will be exploring our connection to the Earth through science\, art\, and play. \nSpecial Earth Week programs run daily from 10:00am – 12:00pm & 1:00pm – 3:00pm. See daily schedule for details.
URL:https://visitconcord.org/event/earth-week-at-discovery-museum/2026-04-22/
LOCATION:Discovery Museum\, 177 Main St.\, Acton\, 01720
CATEGORIES:Children
ATTACH;FMTTYPE=image/png:https://visitconcord.org/wp-content/uploads/2026/03/Earth-Week-2026.png
ORGANIZER;CN="Discovery Museum":MAILTO:discoveryacton.org
GEO:42.464173;-71.4551213
X-APPLE-STRUCTURED-LOCATION;VALUE=URI;X-ADDRESS=Discovery Museum 177 Main St. Acton 01720;X-APPLE-RADIUS=500;X-TITLE=177 Main St.:geo:-71.4551213,42.464173
END:VEVENT
BEGIN:VEVENT
DTSTART;TZID=America/New_York:20260422T130000
DTEND;TZID=America/New_York:20260422T150000
DTSTAMP:20260422T141208
CREATED:20260330T114831Z
LAST-MODIFIED:20260330T114831Z
UID:10022134-1776862800-1776870000@visitconcord.org
SUMMARY:Meet the Scientist: Our Changing Ocean with Boston College at Discovery Museum
DESCRIPTION:Join Professor Tony Wang and doctoral students from the Earth and Environmental Sciences department at Boston College to explore the science of our changing ocean. Discover the intricate workings of ocean circulation and the essential role of phytoplankton\, practice fish dissection and uncover earstones (otoliths)\, and use a microscope to identify microfossils. Learn about the impact of climate change on coral reefs and the Antarctic Ocean. These hands-on activities will offer valuable insights into the dynamic and vital world of ocean science!
URL:https://visitconcord.org/event/meet-the-scientist-our-changing-ocean-with-boston-college-at-discovery-museum-2/
LOCATION:Discovery Museum\, 177 Main St.\, Acton\, 01720
CATEGORIES:Children
ATTACH;FMTTYPE=image/jpeg:https://visitconcord.org/wp-content/uploads/2026/03/Team-photo.jpg
ORGANIZER;CN="Discovery Museum":MAILTO:discoveryacton.org
GEO:42.464173;-71.4551213
X-APPLE-STRUCTURED-LOCATION;VALUE=URI;X-ADDRESS=Discovery Museum 177 Main St. Acton 01720;X-APPLE-RADIUS=500;X-TITLE=177 Main St.:geo:-71.4551213,42.464173
END:VEVENT
BEGIN:VEVENT
DTSTART;TZID=America/New_York:20260422T130000
DTEND;TZID=America/New_York:20260422T160000
DTSTAMP:20260422T141208
CREATED:20251205T131110Z
LAST-MODIFIED:20251205T131110Z
UID:10021658-1776862800-1776873600@visitconcord.org
SUMMARY:Small Acts\, Big Impacts: A Day of Service at Discovery Museum
DESCRIPTION:Martin Luther King Jr. Day is a designated National Day of Service\, to encourage all Americans to volunteer within their communities and honor the life and legacy of the Civil Rights leader. Join the Discovery Museum as we engage in small acts of service to benefit our neighbors. Participate in a donation drive (details coming soon) and create handmade welcome cards to benefit the Refugee & Immigrant Assistance Center\, a local nonprofit that supports children and families experiencing resettlement.
URL:https://visitconcord.org/event/small-acts-big-impacts-a-day-of-service-at-discovery-museum-3/2026-04-22/
LOCATION:Discovery Museum\, 177 Main St.\, Acton\, 01720
CATEGORIES:Children
ATTACH;FMTTYPE=image/png:https://visitconcord.org/wp-content/uploads/2025/12/MLK-Small-Acts-Big-Impacts-web-graphic.png
ORGANIZER;CN="Discovery Museum":MAILTO:discoveryacton.org
GEO:42.464173;-71.4551213
X-APPLE-STRUCTURED-LOCATION;VALUE=URI;X-ADDRESS=Discovery Museum 177 Main St. Acton 01720;X-APPLE-RADIUS=500;X-TITLE=177 Main St.:geo:-71.4551213,42.464173
END:VEVENT
BEGIN:VEVENT
DTSTART;TZID=America/New_York:20260423T100000
DTEND;TZID=America/New_York:20260423T150000
DTSTAMP:20260422T141208
CREATED:20260326T131529Z
LAST-MODIFIED:20260326T131529Z
UID:10022127-1776938400-1776956400@visitconcord.org
SUMMARY:Earth Week at Discovery Museum!
DESCRIPTION:Join us this April school vacation week to celebrate and connect with nature!  All week we will be exploring our connection to the Earth through science\, art\, and play. \nSpecial Earth Week programs run daily from 10:00am – 12:00pm & 1:00pm – 3:00pm. See daily schedule for details.
URL:https://visitconcord.org/event/earth-week-at-discovery-museum/2026-04-23/
LOCATION:Discovery Museum\, 177 Main St.\, Acton\, 01720
CATEGORIES:Children
ATTACH;FMTTYPE=image/png:https://visitconcord.org/wp-content/uploads/2026/03/Earth-Week-2026.png
ORGANIZER;CN="Discovery Museum":MAILTO:discoveryacton.org
GEO:42.464173;-71.4551213
X-APPLE-STRUCTURED-LOCATION;VALUE=URI;X-ADDRESS=Discovery Museum 177 Main St. Acton 01720;X-APPLE-RADIUS=500;X-TITLE=177 Main St.:geo:-71.4551213,42.464173
END:VEVENT
BEGIN:VEVENT
DTSTART;TZID=America/New_York:20260423T130000
DTEND;TZID=America/New_York:20260423T160000
DTSTAMP:20260422T141208
CREATED:20251205T131110Z
LAST-MODIFIED:20251205T131110Z
UID:10021659-1776949200-1776960000@visitconcord.org
SUMMARY:Small Acts\, Big Impacts: A Day of Service at Discovery Museum
DESCRIPTION:Martin Luther King Jr. Day is a designated National Day of Service\, to encourage all Americans to volunteer within their communities and honor the life and legacy of the Civil Rights leader. Join the Discovery Museum as we engage in small acts of service to benefit our neighbors. Participate in a donation drive (details coming soon) and create handmade welcome cards to benefit the Refugee & Immigrant Assistance Center\, a local nonprofit that supports children and families experiencing resettlement.
URL:https://visitconcord.org/event/small-acts-big-impacts-a-day-of-service-at-discovery-museum-3/2026-04-23/
LOCATION:Discovery Museum\, 177 Main St.\, Acton\, 01720
CATEGORIES:Children
ATTACH;FMTTYPE=image/png:https://visitconcord.org/wp-content/uploads/2025/12/MLK-Small-Acts-Big-Impacts-web-graphic.png
ORGANIZER;CN="Discovery Museum":MAILTO:discoveryacton.org
GEO:42.464173;-71.4551213
X-APPLE-STRUCTURED-LOCATION;VALUE=URI;X-ADDRESS=Discovery Museum 177 Main St. Acton 01720;X-APPLE-RADIUS=500;X-TITLE=177 Main St.:geo:-71.4551213,42.464173
END:VEVENT
BEGIN:VEVENT
DTSTART;TZID=America/New_York:20260424T100000
DTEND;TZID=America/New_York:20260424T150000
DTSTAMP:20260422T141208
CREATED:20260326T131529Z
LAST-MODIFIED:20260326T131529Z
UID:10022128-1777024800-1777042800@visitconcord.org
SUMMARY:Earth Week at Discovery Museum!
DESCRIPTION:Join us this April school vacation week to celebrate and connect with nature!  All week we will be exploring our connection to the Earth through science\, art\, and play. \nSpecial Earth Week programs run daily from 10:00am – 12:00pm & 1:00pm – 3:00pm. See daily schedule for details.
URL:https://visitconcord.org/event/earth-week-at-discovery-museum/2026-04-24/
LOCATION:Discovery Museum\, 177 Main St.\, Acton\, 01720
CATEGORIES:Children
ATTACH;FMTTYPE=image/png:https://visitconcord.org/wp-content/uploads/2026/03/Earth-Week-2026.png
ORGANIZER;CN="Discovery Museum":MAILTO:discoveryacton.org
GEO:42.464173;-71.4551213
X-APPLE-STRUCTURED-LOCATION;VALUE=URI;X-ADDRESS=Discovery Museum 177 Main St. Acton 01720;X-APPLE-RADIUS=500;X-TITLE=177 Main St.:geo:-71.4551213,42.464173
END:VEVENT
BEGIN:VEVENT
DTSTART;TZID=America/New_York:20260424T130000
DTEND;TZID=America/New_York:20260424T160000
DTSTAMP:20260422T141208
CREATED:20251205T131110Z
LAST-MODIFIED:20251205T131110Z
UID:10021660-1777035600-1777046400@visitconcord.org
SUMMARY:Small Acts\, Big Impacts: A Day of Service at Discovery Museum
DESCRIPTION:Martin Luther King Jr. Day is a designated National Day of Service\, to encourage all Americans to volunteer within their communities and honor the life and legacy of the Civil Rights leader. Join the Discovery Museum as we engage in small acts of service to benefit our neighbors. Participate in a donation drive (details coming soon) and create handmade welcome cards to benefit the Refugee & Immigrant Assistance Center\, a local nonprofit that supports children and families experiencing resettlement.
URL:https://visitconcord.org/event/small-acts-big-impacts-a-day-of-service-at-discovery-museum-3/2026-04-24/
LOCATION:Discovery Museum\, 177 Main St.\, Acton\, 01720
CATEGORIES:Children
ATTACH;FMTTYPE=image/png:https://visitconcord.org/wp-content/uploads/2025/12/MLK-Small-Acts-Big-Impacts-web-graphic.png
ORGANIZER;CN="Discovery Museum":MAILTO:discoveryacton.org
GEO:42.464173;-71.4551213
X-APPLE-STRUCTURED-LOCATION;VALUE=URI;X-ADDRESS=Discovery Museum 177 Main St. Acton 01720;X-APPLE-RADIUS=500;X-TITLE=177 Main St.:geo:-71.4551213,42.464173
END:VEVENT
BEGIN:VEVENT
DTSTART;TZID=America/New_York:20260425T100000
DTEND;TZID=America/New_York:20260425T150000
DTSTAMP:20260422T141208
CREATED:20260326T131529Z
LAST-MODIFIED:20260326T131529Z
UID:10022129-1777111200-1777129200@visitconcord.org
SUMMARY:Earth Week at Discovery Museum!
DESCRIPTION:Join us this April school vacation week to celebrate and connect with nature!  All week we will be exploring our connection to the Earth through science\, art\, and play. \nSpecial Earth Week programs run daily from 10:00am – 12:00pm & 1:00pm – 3:00pm. See daily schedule for details.
URL:https://visitconcord.org/event/earth-week-at-discovery-museum/2026-04-25/
LOCATION:Discovery Museum\, 177 Main St.\, Acton\, 01720
CATEGORIES:Children
ATTACH;FMTTYPE=image/png:https://visitconcord.org/wp-content/uploads/2026/03/Earth-Week-2026.png
ORGANIZER;CN="Discovery Museum":MAILTO:discoveryacton.org
GEO:42.464173;-71.4551213
X-APPLE-STRUCTURED-LOCATION;VALUE=URI;X-ADDRESS=Discovery Museum 177 Main St. Acton 01720;X-APPLE-RADIUS=500;X-TITLE=177 Main St.:geo:-71.4551213,42.464173
END:VEVENT
BEGIN:VEVENT
DTSTART;TZID=America/New_York:20260425T130000
DTEND;TZID=America/New_York:20260425T160000
DTSTAMP:20260422T141208
CREATED:20251205T131110Z
LAST-MODIFIED:20251205T131110Z
UID:10021661-1777122000-1777132800@visitconcord.org
SUMMARY:Small Acts\, Big Impacts: A Day of Service at Discovery Museum
DESCRIPTION:Martin Luther King Jr. Day is a designated National Day of Service\, to encourage all Americans to volunteer within their communities and honor the life and legacy of the Civil Rights leader. Join the Discovery Museum as we engage in small acts of service to benefit our neighbors. Participate in a donation drive (details coming soon) and create handmade welcome cards to benefit the Refugee & Immigrant Assistance Center\, a local nonprofit that supports children and families experiencing resettlement.
URL:https://visitconcord.org/event/small-acts-big-impacts-a-day-of-service-at-discovery-museum-3/2026-04-25/
LOCATION:Discovery Museum\, 177 Main St.\, Acton\, 01720
CATEGORIES:Children
ATTACH;FMTTYPE=image/png:https://visitconcord.org/wp-content/uploads/2025/12/MLK-Small-Acts-Big-Impacts-web-graphic.png
ORGANIZER;CN="Discovery Museum":MAILTO:discoveryacton.org
GEO:42.464173;-71.4551213
X-APPLE-STRUCTURED-LOCATION;VALUE=URI;X-ADDRESS=Discovery Museum 177 Main St. Acton 01720;X-APPLE-RADIUS=500;X-TITLE=177 Main St.:geo:-71.4551213,42.464173
END:VEVENT
BEGIN:VEVENT
DTSTART;TZID=America/New_York:20260426T100000
DTEND;TZID=America/New_York:20260426T150000
DTSTAMP:20260422T141208
CREATED:20260326T131529Z
LAST-MODIFIED:20260326T131529Z
UID:10022130-1777197600-1777215600@visitconcord.org
SUMMARY:Earth Week at Discovery Museum!
DESCRIPTION:Join us this April school vacation week to celebrate and connect with nature!  All week we will be exploring our connection to the Earth through science\, art\, and play. \nSpecial Earth Week programs run daily from 10:00am – 12:00pm & 1:00pm – 3:00pm. See daily schedule for details.
URL:https://visitconcord.org/event/earth-week-at-discovery-museum/2026-04-26/
LOCATION:Discovery Museum\, 177 Main St.\, Acton\, 01720
CATEGORIES:Children
ATTACH;FMTTYPE=image/png:https://visitconcord.org/wp-content/uploads/2026/03/Earth-Week-2026.png
ORGANIZER;CN="Discovery Museum":MAILTO:discoveryacton.org
GEO:42.464173;-71.4551213
X-APPLE-STRUCTURED-LOCATION;VALUE=URI;X-ADDRESS=Discovery Museum 177 Main St. Acton 01720;X-APPLE-RADIUS=500;X-TITLE=177 Main St.:geo:-71.4551213,42.464173
END:VEVENT
BEGIN:VEVENT
DTSTART;TZID=America/New_York:20260426T130000
DTEND;TZID=America/New_York:20260426T160000
DTSTAMP:20260422T141208
CREATED:20251205T131110Z
LAST-MODIFIED:20251205T131110Z
UID:10021662-1777208400-1777219200@visitconcord.org
SUMMARY:Small Acts\, Big Impacts: A Day of Service at Discovery Museum
DESCRIPTION:Martin Luther King Jr. Day is a designated National Day of Service\, to encourage all Americans to volunteer within their communities and honor the life and legacy of the Civil Rights leader. Join the Discovery Museum as we engage in small acts of service to benefit our neighbors. Participate in a donation drive (details coming soon) and create handmade welcome cards to benefit the Refugee & Immigrant Assistance Center\, a local nonprofit that supports children and families experiencing resettlement.
URL:https://visitconcord.org/event/small-acts-big-impacts-a-day-of-service-at-discovery-museum-3/2026-04-26/
LOCATION:Discovery Museum\, 177 Main St.\, Acton\, 01720
CATEGORIES:Children
ATTACH;FMTTYPE=image/png:https://visitconcord.org/wp-content/uploads/2025/12/MLK-Small-Acts-Big-Impacts-web-graphic.png
ORGANIZER;CN="Discovery Museum":MAILTO:discoveryacton.org
GEO:42.464173;-71.4551213
X-APPLE-STRUCTURED-LOCATION;VALUE=URI;X-ADDRESS=Discovery Museum 177 Main St. Acton 01720;X-APPLE-RADIUS=500;X-TITLE=177 Main St.:geo:-71.4551213,42.464173
END:VEVENT
END:VCALENDAR