BEGIN:VCALENDAR
VERSION:2.0
PRODID:-//Visit Concord - ECPv6.15.20//NONSGML v1.0//EN
CALSCALE:GREGORIAN
METHOD:PUBLISH
X-WR-CALNAME:Visit Concord
X-ORIGINAL-URL:https://visitconcord.org
X-WR-CALDESC:Events for Visit Concord
REFRESH-INTERVAL;VALUE=DURATION:PT1H
X-Robots-Tag:noindex
X-PUBLISHED-TTL:PT1H
BEGIN:VTIMEZONE
TZID:America/New_York
BEGIN:DAYLIGHT
TZOFFSETFROM:-0500
TZOFFSETTO:-0400
TZNAME:EDT
DTSTART:20250309T070000
END:DAYLIGHT
BEGIN:STANDARD
TZOFFSETFROM:-0400
TZOFFSETTO:-0500
TZNAME:EST
DTSTART:20251102T060000
END:STANDARD
BEGIN:DAYLIGHT
TZOFFSETFROM:-0500
TZOFFSETTO:-0400
TZNAME:EDT
DTSTART:20260308T070000
END:DAYLIGHT
BEGIN:STANDARD
TZOFFSETFROM:-0400
TZOFFSETTO:-0500
TZNAME:EST
DTSTART:20261101T060000
END:STANDARD
BEGIN:DAYLIGHT
TZOFFSETFROM:-0500
TZOFFSETTO:-0400
TZNAME:EDT
DTSTART:20270314T070000
END:DAYLIGHT
BEGIN:STANDARD
TZOFFSETFROM:-0400
TZOFFSETTO:-0500
TZNAME:EST
DTSTART:20271107T060000
END:STANDARD
END:VTIMEZONE
BEGIN:VEVENT
DTSTART;TZID=America/New_York:20260413T130000
DTEND;TZID=America/New_York:20260413T160000
DTSTAMP:20260422T154413
CREATED:20251205T131110Z
LAST-MODIFIED:20251205T131110Z
UID:10021649-1776085200-1776096000@visitconcord.org
SUMMARY:Small Acts\, Big Impacts: A Day of Service at Discovery Museum
DESCRIPTION:Martin Luther King Jr. Day is a designated National Day of Service\, to encourage all Americans to volunteer within their communities and honor the life and legacy of the Civil Rights leader. Join the Discovery Museum as we engage in small acts of service to benefit our neighbors. Participate in a donation drive (details coming soon) and create handmade welcome cards to benefit the Refugee & Immigrant Assistance Center\, a local nonprofit that supports children and families experiencing resettlement.
URL:https://visitconcord.org/event/small-acts-big-impacts-a-day-of-service-at-discovery-museum-3/2026-04-13/
LOCATION:Discovery Museum\, 177 Main St.\, Acton\, 01720
CATEGORIES:Children
ATTACH;FMTTYPE=image/png:https://visitconcord.org/wp-content/uploads/2025/12/MLK-Small-Acts-Big-Impacts-web-graphic.png
ORGANIZER;CN="Discovery Museum":MAILTO:discoveryacton.org
GEO:42.464173;-71.4551213
X-APPLE-STRUCTURED-LOCATION;VALUE=URI;X-ADDRESS=Discovery Museum 177 Main St. Acton 01720;X-APPLE-RADIUS=500;X-TITLE=177 Main St.:geo:-71.4551213,42.464173
END:VEVENT
BEGIN:VEVENT
DTSTART;TZID=America/New_York:20260414T130000
DTEND;TZID=America/New_York:20260414T160000
DTSTAMP:20260422T154413
CREATED:20251205T131110Z
LAST-MODIFIED:20251205T131110Z
UID:10021650-1776171600-1776182400@visitconcord.org
SUMMARY:Small Acts\, Big Impacts: A Day of Service at Discovery Museum
DESCRIPTION:Martin Luther King Jr. Day is a designated National Day of Service\, to encourage all Americans to volunteer within their communities and honor the life and legacy of the Civil Rights leader. Join the Discovery Museum as we engage in small acts of service to benefit our neighbors. Participate in a donation drive (details coming soon) and create handmade welcome cards to benefit the Refugee & Immigrant Assistance Center\, a local nonprofit that supports children and families experiencing resettlement.
URL:https://visitconcord.org/event/small-acts-big-impacts-a-day-of-service-at-discovery-museum-3/2026-04-14/
LOCATION:Discovery Museum\, 177 Main St.\, Acton\, 01720
CATEGORIES:Children
ATTACH;FMTTYPE=image/png:https://visitconcord.org/wp-content/uploads/2025/12/MLK-Small-Acts-Big-Impacts-web-graphic.png
ORGANIZER;CN="Discovery Museum":MAILTO:discoveryacton.org
GEO:42.464173;-71.4551213
X-APPLE-STRUCTURED-LOCATION;VALUE=URI;X-ADDRESS=Discovery Museum 177 Main St. Acton 01720;X-APPLE-RADIUS=500;X-TITLE=177 Main St.:geo:-71.4551213,42.464173
END:VEVENT
BEGIN:VEVENT
DTSTART;TZID=America/New_York:20260415T090000
DTEND;TZID=America/New_York:20260415T160000
DTSTAMP:20260422T154413
CREATED:20260326T131545Z
LAST-MODIFIED:20260326T131545Z
UID:10022121-1776243600-1776268800@visitconcord.org
SUMMARY:Happy Birthday Leonardo da Vinci! at Discovery Museum
DESCRIPTION:Join Discovery Museum as we celebrate Leonardo da Vinci’s birthday. Born on April 15\, 1452\, Leonardo da Vinci was an inventor\, artist\, engineer\, and mathematician who spent his lifetime following his curiosity and exploring a wide variety of interests. Be inspired by da Vinci’s passion for flight as you build paper helicopters at our Wind Table\, try a bridge building challenge in da Vinci Workshop\, go on a scavenger hunt to discover some of da Vinci’s most visionary inventions\, and practice your hand at writing backwards like da Vinci.
URL:https://visitconcord.org/event/happy-birthday-leonardo-da-vinci-at-discovery-museum-2/
LOCATION:Discovery Museum\, 177 Main St.\, Acton\, 01720
CATEGORIES:Arts & Culture,Children
ATTACH;FMTTYPE=image/jpeg:https://visitconcord.org/wp-content/uploads/2026/03/HBD-da-Vinci2-square.jpg
ORGANIZER;CN="Discovery Museum":MAILTO:discoveryacton.org
GEO:42.464173;-71.4551213
X-APPLE-STRUCTURED-LOCATION;VALUE=URI;X-ADDRESS=Discovery Museum 177 Main St. Acton 01720;X-APPLE-RADIUS=500;X-TITLE=177 Main St.:geo:-71.4551213,42.464173
END:VEVENT
BEGIN:VEVENT
DTSTART;TZID=America/New_York:20260415T130000
DTEND;TZID=America/New_York:20260415T160000
DTSTAMP:20260422T154413
CREATED:20251205T131110Z
LAST-MODIFIED:20251205T131110Z
UID:10021651-1776258000-1776268800@visitconcord.org
SUMMARY:Small Acts\, Big Impacts: A Day of Service at Discovery Museum
DESCRIPTION:Martin Luther King Jr. Day is a designated National Day of Service\, to encourage all Americans to volunteer within their communities and honor the life and legacy of the Civil Rights leader. Join the Discovery Museum as we engage in small acts of service to benefit our neighbors. Participate in a donation drive (details coming soon) and create handmade welcome cards to benefit the Refugee & Immigrant Assistance Center\, a local nonprofit that supports children and families experiencing resettlement.
URL:https://visitconcord.org/event/small-acts-big-impacts-a-day-of-service-at-discovery-museum-3/2026-04-15/
LOCATION:Discovery Museum\, 177 Main St.\, Acton\, 01720
CATEGORIES:Children
ATTACH;FMTTYPE=image/png:https://visitconcord.org/wp-content/uploads/2025/12/MLK-Small-Acts-Big-Impacts-web-graphic.png
ORGANIZER;CN="Discovery Museum":MAILTO:discoveryacton.org
GEO:42.464173;-71.4551213
X-APPLE-STRUCTURED-LOCATION;VALUE=URI;X-ADDRESS=Discovery Museum 177 Main St. Acton 01720;X-APPLE-RADIUS=500;X-TITLE=177 Main St.:geo:-71.4551213,42.464173
END:VEVENT
BEGIN:VEVENT
DTSTART;TZID=America/New_York:20260416T130000
DTEND;TZID=America/New_York:20260416T160000
DTSTAMP:20260422T154413
CREATED:20251205T131110Z
LAST-MODIFIED:20251205T131110Z
UID:10021652-1776344400-1776355200@visitconcord.org
SUMMARY:Small Acts\, Big Impacts: A Day of Service at Discovery Museum
DESCRIPTION:Martin Luther King Jr. Day is a designated National Day of Service\, to encourage all Americans to volunteer within their communities and honor the life and legacy of the Civil Rights leader. Join the Discovery Museum as we engage in small acts of service to benefit our neighbors. Participate in a donation drive (details coming soon) and create handmade welcome cards to benefit the Refugee & Immigrant Assistance Center\, a local nonprofit that supports children and families experiencing resettlement.
URL:https://visitconcord.org/event/small-acts-big-impacts-a-day-of-service-at-discovery-museum-3/2026-04-16/
LOCATION:Discovery Museum\, 177 Main St.\, Acton\, 01720
CATEGORIES:Children
ATTACH;FMTTYPE=image/png:https://visitconcord.org/wp-content/uploads/2025/12/MLK-Small-Acts-Big-Impacts-web-graphic.png
ORGANIZER;CN="Discovery Museum":MAILTO:discoveryacton.org
GEO:42.464173;-71.4551213
X-APPLE-STRUCTURED-LOCATION;VALUE=URI;X-ADDRESS=Discovery Museum 177 Main St. Acton 01720;X-APPLE-RADIUS=500;X-TITLE=177 Main St.:geo:-71.4551213,42.464173
END:VEVENT
BEGIN:VEVENT
DTSTART;TZID=America/New_York:20260417T130000
DTEND;TZID=America/New_York:20260417T160000
DTSTAMP:20260422T154413
CREATED:20251205T131110Z
LAST-MODIFIED:20251205T131110Z
UID:10021653-1776430800-1776441600@visitconcord.org
SUMMARY:Small Acts\, Big Impacts: A Day of Service at Discovery Museum
DESCRIPTION:Martin Luther King Jr. Day is a designated National Day of Service\, to encourage all Americans to volunteer within their communities and honor the life and legacy of the Civil Rights leader. Join the Discovery Museum as we engage in small acts of service to benefit our neighbors. Participate in a donation drive (details coming soon) and create handmade welcome cards to benefit the Refugee & Immigrant Assistance Center\, a local nonprofit that supports children and families experiencing resettlement.
URL:https://visitconcord.org/event/small-acts-big-impacts-a-day-of-service-at-discovery-museum-3/2026-04-17/
LOCATION:Discovery Museum\, 177 Main St.\, Acton\, 01720
CATEGORIES:Children
ATTACH;FMTTYPE=image/png:https://visitconcord.org/wp-content/uploads/2025/12/MLK-Small-Acts-Big-Impacts-web-graphic.png
ORGANIZER;CN="Discovery Museum":MAILTO:discoveryacton.org
GEO:42.464173;-71.4551213
X-APPLE-STRUCTURED-LOCATION;VALUE=URI;X-ADDRESS=Discovery Museum 177 Main St. Acton 01720;X-APPLE-RADIUS=500;X-TITLE=177 Main St.:geo:-71.4551213,42.464173
END:VEVENT
BEGIN:VEVENT
DTSTART;TZID=America/New_York:20260418T100000
DTEND;TZID=America/New_York:20260418T150000
DTSTAMP:20260422T154413
CREATED:20260326T131529Z
LAST-MODIFIED:20260326T131529Z
UID:10022122-1776506400-1776524400@visitconcord.org
SUMMARY:Earth Week at Discovery Museum!
DESCRIPTION:Join us this April school vacation week to celebrate and connect with nature!  All week we will be exploring our connection to the Earth through science\, art\, and play. \nSpecial Earth Week programs run daily from 10:00am – 12:00pm & 1:00pm – 3:00pm. See daily schedule for details.
URL:https://visitconcord.org/event/earth-week-at-discovery-museum/2026-04-18/
LOCATION:Discovery Museum\, 177 Main St.\, Acton\, 01720
CATEGORIES:Children
ATTACH;FMTTYPE=image/png:https://visitconcord.org/wp-content/uploads/2026/03/Earth-Week-2026.png
ORGANIZER;CN="Discovery Museum":MAILTO:discoveryacton.org
GEO:42.464173;-71.4551213
X-APPLE-STRUCTURED-LOCATION;VALUE=URI;X-ADDRESS=Discovery Museum 177 Main St. Acton 01720;X-APPLE-RADIUS=500;X-TITLE=177 Main St.:geo:-71.4551213,42.464173
END:VEVENT
BEGIN:VEVENT
DTSTART;TZID=America/New_York:20260418T130000
DTEND;TZID=America/New_York:20260418T160000
DTSTAMP:20260422T154413
CREATED:20251205T131110Z
LAST-MODIFIED:20251205T131110Z
UID:10021654-1776517200-1776528000@visitconcord.org
SUMMARY:Small Acts\, Big Impacts: A Day of Service at Discovery Museum
DESCRIPTION:Martin Luther King Jr. Day is a designated National Day of Service\, to encourage all Americans to volunteer within their communities and honor the life and legacy of the Civil Rights leader. Join the Discovery Museum as we engage in small acts of service to benefit our neighbors. Participate in a donation drive (details coming soon) and create handmade welcome cards to benefit the Refugee & Immigrant Assistance Center\, a local nonprofit that supports children and families experiencing resettlement.
URL:https://visitconcord.org/event/small-acts-big-impacts-a-day-of-service-at-discovery-museum-3/2026-04-18/
LOCATION:Discovery Museum\, 177 Main St.\, Acton\, 01720
CATEGORIES:Children
ATTACH;FMTTYPE=image/png:https://visitconcord.org/wp-content/uploads/2025/12/MLK-Small-Acts-Big-Impacts-web-graphic.png
ORGANIZER;CN="Discovery Museum":MAILTO:discoveryacton.org
GEO:42.464173;-71.4551213
X-APPLE-STRUCTURED-LOCATION;VALUE=URI;X-ADDRESS=Discovery Museum 177 Main St. Acton 01720;X-APPLE-RADIUS=500;X-TITLE=177 Main St.:geo:-71.4551213,42.464173
END:VEVENT
BEGIN:VEVENT
DTSTART;TZID=America/New_York:20260419T054500
DTEND;TZID=America/New_York:20260419T070000
DTSTAMP:20260422T154413
CREATED:20260309T160715Z
LAST-MODIFIED:20260309T160904Z
UID:10022086-1776577500-1776582000@visitconcord.org
SUMMARY:Dawn Salute
DESCRIPTION:Sunday\, April 19\, 2026 at 6:00 AM \nMuster at Buttrick Hillside at 5:45 AM \n\n\n\n\n\n\n\n\n\n\n\n\nChurch bells at the First Parish toll at 6:00 AM to sound the alarm. \n“Dr. Prescott” arrives at the North Bridge after riding across the fields calling out the warning to towns and villages that the Regulars were on the march and that their destination was Concord. The Concord Minutemen fire salutes and the Concord Independent Battery fire several volleys from the field at the Old Manse.
URL:https://visitconcord.org/event/dawn-salute-2/
LOCATION:North Bridge
CATEGORIES:Children,Concord250,Historical Visitor,Holiday
END:VEVENT
BEGIN:VEVENT
DTSTART;TZID=America/New_York:20260419T100000
DTEND;TZID=America/New_York:20260419T120000
DTSTAMP:20260422T154413
CREATED:20260326T194645Z
LAST-MODIFIED:20260326T194645Z
UID:10022131-1776592800-1776600000@visitconcord.org
SUMMARY:Chemists Celebrate Earth Week: Trees and Forests at Discovery Museum
DESCRIPTION:Discover the science behind Trees and Forests: Into the Woods with Chemistry as we celebrate Chemists Celebrate Earth Week. Join us and our guest educators from the North Eastern Section of American Chemical Society and have fun exploring chemistry through hands-on activities related to this year’s theme\, Trees and Forests!
URL:https://visitconcord.org/event/chemists-celebrate-earth-week-trees-and-forests-at-discovery-museum/
LOCATION:Discovery Museum\, 177 Main St.\, Acton\, 01720
CATEGORIES:Children
ATTACH;FMTTYPE=image/jpeg:https://visitconcord.org/wp-content/uploads/2026/03/chem-week-2026.jpg
ORGANIZER;CN="Discovery Museum":MAILTO:discoveryacton.org
GEO:42.464173;-71.4551213
X-APPLE-STRUCTURED-LOCATION;VALUE=URI;X-ADDRESS=Discovery Museum 177 Main St. Acton 01720;X-APPLE-RADIUS=500;X-TITLE=177 Main St.:geo:-71.4551213,42.464173
END:VEVENT
BEGIN:VEVENT
DTSTART;TZID=America/New_York:20260419T100000
DTEND;TZID=America/New_York:20260419T150000
DTSTAMP:20260422T154413
CREATED:20260326T131529Z
LAST-MODIFIED:20260326T131529Z
UID:10022123-1776592800-1776610800@visitconcord.org
SUMMARY:Earth Week at Discovery Museum!
DESCRIPTION:Join us this April school vacation week to celebrate and connect with nature!  All week we will be exploring our connection to the Earth through science\, art\, and play. \nSpecial Earth Week programs run daily from 10:00am – 12:00pm & 1:00pm – 3:00pm. See daily schedule for details.
URL:https://visitconcord.org/event/earth-week-at-discovery-museum/2026-04-19/
LOCATION:Discovery Museum\, 177 Main St.\, Acton\, 01720
CATEGORIES:Children
ATTACH;FMTTYPE=image/png:https://visitconcord.org/wp-content/uploads/2026/03/Earth-Week-2026.png
ORGANIZER;CN="Discovery Museum":MAILTO:discoveryacton.org
GEO:42.464173;-71.4551213
X-APPLE-STRUCTURED-LOCATION;VALUE=URI;X-ADDRESS=Discovery Museum 177 Main St. Acton 01720;X-APPLE-RADIUS=500;X-TITLE=177 Main St.:geo:-71.4551213,42.464173
END:VEVENT
BEGIN:VEVENT
DTSTART;TZID=America/New_York:20260419T130000
DTEND;TZID=America/New_York:20260419T160000
DTSTAMP:20260422T154413
CREATED:20251205T131110Z
LAST-MODIFIED:20251205T131110Z
UID:10021655-1776603600-1776614400@visitconcord.org
SUMMARY:Small Acts\, Big Impacts: A Day of Service at Discovery Museum
DESCRIPTION:Martin Luther King Jr. Day is a designated National Day of Service\, to encourage all Americans to volunteer within their communities and honor the life and legacy of the Civil Rights leader. Join the Discovery Museum as we engage in small acts of service to benefit our neighbors. Participate in a donation drive (details coming soon) and create handmade welcome cards to benefit the Refugee & Immigrant Assistance Center\, a local nonprofit that supports children and families experiencing resettlement.
URL:https://visitconcord.org/event/small-acts-big-impacts-a-day-of-service-at-discovery-museum-3/2026-04-19/
LOCATION:Discovery Museum\, 177 Main St.\, Acton\, 01720
CATEGORIES:Children
ATTACH;FMTTYPE=image/png:https://visitconcord.org/wp-content/uploads/2025/12/MLK-Small-Acts-Big-Impacts-web-graphic.png
ORGANIZER;CN="Discovery Museum":MAILTO:discoveryacton.org
GEO:42.464173;-71.4551213
X-APPLE-STRUCTURED-LOCATION;VALUE=URI;X-ADDRESS=Discovery Museum 177 Main St. Acton 01720;X-APPLE-RADIUS=500;X-TITLE=177 Main St.:geo:-71.4551213,42.464173
END:VEVENT
END:VCALENDAR