BEGIN:VCALENDAR
VERSION:2.0
PRODID:-//Visit Concord - ECPv6.15.20//NONSGML v1.0//EN
CALSCALE:GREGORIAN
METHOD:PUBLISH
X-WR-CALNAME:Visit Concord
X-ORIGINAL-URL:https://visitconcord.org
X-WR-CALDESC:Events for Visit Concord
REFRESH-INTERVAL;VALUE=DURATION:PT1H
X-Robots-Tag:noindex
X-PUBLISHED-TTL:PT1H
BEGIN:VTIMEZONE
TZID:America/New_York
BEGIN:DAYLIGHT
TZOFFSETFROM:-0500
TZOFFSETTO:-0400
TZNAME:EDT
DTSTART:20250309T070000
END:DAYLIGHT
BEGIN:STANDARD
TZOFFSETFROM:-0400
TZOFFSETTO:-0500
TZNAME:EST
DTSTART:20251102T060000
END:STANDARD
BEGIN:DAYLIGHT
TZOFFSETFROM:-0500
TZOFFSETTO:-0400
TZNAME:EDT
DTSTART:20260308T070000
END:DAYLIGHT
BEGIN:STANDARD
TZOFFSETFROM:-0400
TZOFFSETTO:-0500
TZNAME:EST
DTSTART:20261101T060000
END:STANDARD
BEGIN:DAYLIGHT
TZOFFSETFROM:-0500
TZOFFSETTO:-0400
TZNAME:EDT
DTSTART:20270314T070000
END:DAYLIGHT
BEGIN:STANDARD
TZOFFSETFROM:-0400
TZOFFSETTO:-0500
TZNAME:EST
DTSTART:20271107T060000
END:STANDARD
END:VTIMEZONE
BEGIN:VEVENT
DTSTART;TZID=America/New_York:20260223T130000
DTEND;TZID=America/New_York:20260223T160000
DTSTAMP:20260422T183944
CREATED:20251205T131110Z
LAST-MODIFIED:20251205T131110Z
UID:10021600-1771851600-1771862400@visitconcord.org
SUMMARY:Small Acts\, Big Impacts: A Day of Service at Discovery Museum
DESCRIPTION:Martin Luther King Jr. Day is a designated National Day of Service\, to encourage all Americans to volunteer within their communities and honor the life and legacy of the Civil Rights leader. Join the Discovery Museum as we engage in small acts of service to benefit our neighbors. Participate in a donation drive (details coming soon) and create handmade welcome cards to benefit the Refugee & Immigrant Assistance Center\, a local nonprofit that supports children and families experiencing resettlement.
URL:https://visitconcord.org/event/small-acts-big-impacts-a-day-of-service-at-discovery-museum-3/2026-02-23/
LOCATION:Discovery Museum\, 177 Main St.\, Acton\, 01720
CATEGORIES:Children
ATTACH;FMTTYPE=image/png:https://visitconcord.org/wp-content/uploads/2025/12/MLK-Small-Acts-Big-Impacts-web-graphic.png
ORGANIZER;CN="Discovery Museum":MAILTO:discoveryacton.org
GEO:42.464173;-71.4551213
X-APPLE-STRUCTURED-LOCATION;VALUE=URI;X-ADDRESS=Discovery Museum 177 Main St. Acton 01720;X-APPLE-RADIUS=500;X-TITLE=177 Main St.:geo:-71.4551213,42.464173
END:VEVENT
BEGIN:VEVENT
DTSTART;TZID=America/New_York:20260224T130000
DTEND;TZID=America/New_York:20260224T160000
DTSTAMP:20260422T183944
CREATED:20251205T131110Z
LAST-MODIFIED:20251205T131110Z
UID:10021601-1771938000-1771948800@visitconcord.org
SUMMARY:Small Acts\, Big Impacts: A Day of Service at Discovery Museum
DESCRIPTION:Martin Luther King Jr. Day is a designated National Day of Service\, to encourage all Americans to volunteer within their communities and honor the life and legacy of the Civil Rights leader. Join the Discovery Museum as we engage in small acts of service to benefit our neighbors. Participate in a donation drive (details coming soon) and create handmade welcome cards to benefit the Refugee & Immigrant Assistance Center\, a local nonprofit that supports children and families experiencing resettlement.
URL:https://visitconcord.org/event/small-acts-big-impacts-a-day-of-service-at-discovery-museum-3/2026-02-24/
LOCATION:Discovery Museum\, 177 Main St.\, Acton\, 01720
CATEGORIES:Children
ATTACH;FMTTYPE=image/png:https://visitconcord.org/wp-content/uploads/2025/12/MLK-Small-Acts-Big-Impacts-web-graphic.png
ORGANIZER;CN="Discovery Museum":MAILTO:discoveryacton.org
GEO:42.464173;-71.4551213
X-APPLE-STRUCTURED-LOCATION;VALUE=URI;X-ADDRESS=Discovery Museum 177 Main St. Acton 01720;X-APPLE-RADIUS=500;X-TITLE=177 Main St.:geo:-71.4551213,42.464173
END:VEVENT
BEGIN:VEVENT
DTSTART;TZID=America/New_York:20260225T130000
DTEND;TZID=America/New_York:20260225T160000
DTSTAMP:20260422T183944
CREATED:20251205T131110Z
LAST-MODIFIED:20251205T131110Z
UID:10021602-1772024400-1772035200@visitconcord.org
SUMMARY:Small Acts\, Big Impacts: A Day of Service at Discovery Museum
DESCRIPTION:Martin Luther King Jr. Day is a designated National Day of Service\, to encourage all Americans to volunteer within their communities and honor the life and legacy of the Civil Rights leader. Join the Discovery Museum as we engage in small acts of service to benefit our neighbors. Participate in a donation drive (details coming soon) and create handmade welcome cards to benefit the Refugee & Immigrant Assistance Center\, a local nonprofit that supports children and families experiencing resettlement.
URL:https://visitconcord.org/event/small-acts-big-impacts-a-day-of-service-at-discovery-museum-3/2026-02-25/
LOCATION:Discovery Museum\, 177 Main St.\, Acton\, 01720
CATEGORIES:Children
ATTACH;FMTTYPE=image/png:https://visitconcord.org/wp-content/uploads/2025/12/MLK-Small-Acts-Big-Impacts-web-graphic.png
ORGANIZER;CN="Discovery Museum":MAILTO:discoveryacton.org
GEO:42.464173;-71.4551213
X-APPLE-STRUCTURED-LOCATION;VALUE=URI;X-ADDRESS=Discovery Museum 177 Main St. Acton 01720;X-APPLE-RADIUS=500;X-TITLE=177 Main St.:geo:-71.4551213,42.464173
END:VEVENT
BEGIN:VEVENT
DTSTART;TZID=America/New_York:20260226T130000
DTEND;TZID=America/New_York:20260226T160000
DTSTAMP:20260422T183944
CREATED:20251205T131110Z
LAST-MODIFIED:20251205T131110Z
UID:10021603-1772110800-1772121600@visitconcord.org
SUMMARY:Small Acts\, Big Impacts: A Day of Service at Discovery Museum
DESCRIPTION:Martin Luther King Jr. Day is a designated National Day of Service\, to encourage all Americans to volunteer within their communities and honor the life and legacy of the Civil Rights leader. Join the Discovery Museum as we engage in small acts of service to benefit our neighbors. Participate in a donation drive (details coming soon) and create handmade welcome cards to benefit the Refugee & Immigrant Assistance Center\, a local nonprofit that supports children and families experiencing resettlement.
URL:https://visitconcord.org/event/small-acts-big-impacts-a-day-of-service-at-discovery-museum-3/2026-02-26/
LOCATION:Discovery Museum\, 177 Main St.\, Acton\, 01720
CATEGORIES:Children
ATTACH;FMTTYPE=image/png:https://visitconcord.org/wp-content/uploads/2025/12/MLK-Small-Acts-Big-Impacts-web-graphic.png
ORGANIZER;CN="Discovery Museum":MAILTO:discoveryacton.org
GEO:42.464173;-71.4551213
X-APPLE-STRUCTURED-LOCATION;VALUE=URI;X-ADDRESS=Discovery Museum 177 Main St. Acton 01720;X-APPLE-RADIUS=500;X-TITLE=177 Main St.:geo:-71.4551213,42.464173
END:VEVENT
BEGIN:VEVENT
DTSTART;TZID=America/New_York:20260227T130000
DTEND;TZID=America/New_York:20260227T160000
DTSTAMP:20260422T183944
CREATED:20251205T131110Z
LAST-MODIFIED:20251205T131110Z
UID:10021604-1772197200-1772208000@visitconcord.org
SUMMARY:Small Acts\, Big Impacts: A Day of Service at Discovery Museum
DESCRIPTION:Martin Luther King Jr. Day is a designated National Day of Service\, to encourage all Americans to volunteer within their communities and honor the life and legacy of the Civil Rights leader. Join the Discovery Museum as we engage in small acts of service to benefit our neighbors. Participate in a donation drive (details coming soon) and create handmade welcome cards to benefit the Refugee & Immigrant Assistance Center\, a local nonprofit that supports children and families experiencing resettlement.
URL:https://visitconcord.org/event/small-acts-big-impacts-a-day-of-service-at-discovery-museum-3/2026-02-27/
LOCATION:Discovery Museum\, 177 Main St.\, Acton\, 01720
CATEGORIES:Children
ATTACH;FMTTYPE=image/png:https://visitconcord.org/wp-content/uploads/2025/12/MLK-Small-Acts-Big-Impacts-web-graphic.png
ORGANIZER;CN="Discovery Museum":MAILTO:discoveryacton.org
GEO:42.464173;-71.4551213
X-APPLE-STRUCTURED-LOCATION;VALUE=URI;X-ADDRESS=Discovery Museum 177 Main St. Acton 01720;X-APPLE-RADIUS=500;X-TITLE=177 Main St.:geo:-71.4551213,42.464173
END:VEVENT
BEGIN:VEVENT
DTSTART;TZID=America/New_York:20260228T110000
DTEND;TZID=America/New_York:20260228T170000
DTSTAMP:20260422T183944
CREATED:20260212T165812Z
LAST-MODIFIED:20260212T165812Z
UID:10022051-1772276400-1772298000@visitconcord.org
SUMMARY:Around Hear Family Concert
DESCRIPTION:Step into the magic of the nighttime world! Join the Concord Conservatory of Music for a special family performance featuring an original musical setting of Margaret Wise Brown’s beloved classic\, Goodnight Moon. \nThis unique event blends chamber music\, storytelling\, and captivating visuals to introduce children to the wonders of live performance. Featuring works by Messiaen and the talented Around Hear ensemble\, it’s a cozy\, welcoming way for families to experience the “mystery of the night” through music. \n\n\nWhen: Saturday\, February 28 at 11:00 am \n\n\nCost: $10 General Admission | FREE for students 18 and under. \n\n\nTickets: Available in advance or at the door.
URL:https://visitconcord.org/event/around-hear-family-concert/
LOCATION:Concord Conservatory of Music\, 1317 Main Street (within the West Concord Union Church)\, Concord\, MA\, 01719
CATEGORIES:Arts & Culture,Children
ATTACH;FMTTYPE=image/png:https://visitconcord.org/wp-content/uploads/2026/02/Around-Hear-Concert-2026-Poster-8.5-x-11-in-5.png
ORGANIZER;CN="Concord Conservatory of Music":MAILTO:info@ConcordConservatory.org
GEO:42.454604;-71.3949686
X-APPLE-STRUCTURED-LOCATION;VALUE=URI;X-ADDRESS=Concord Conservatory of Music 1317 Main Street (within the West Concord Union Church) Concord MA 01719;X-APPLE-RADIUS=500;X-TITLE=1317 Main Street (within the West Concord Union Church):geo:-71.3949686,42.454604
END:VEVENT
BEGIN:VEVENT
DTSTART;TZID=America/New_York:20260228T130000
DTEND;TZID=America/New_York:20260228T160000
DTSTAMP:20260422T183944
CREATED:20251205T131110Z
LAST-MODIFIED:20251205T131110Z
UID:10021605-1772283600-1772294400@visitconcord.org
SUMMARY:Small Acts\, Big Impacts: A Day of Service at Discovery Museum
DESCRIPTION:Martin Luther King Jr. Day is a designated National Day of Service\, to encourage all Americans to volunteer within their communities and honor the life and legacy of the Civil Rights leader. Join the Discovery Museum as we engage in small acts of service to benefit our neighbors. Participate in a donation drive (details coming soon) and create handmade welcome cards to benefit the Refugee & Immigrant Assistance Center\, a local nonprofit that supports children and families experiencing resettlement.
URL:https://visitconcord.org/event/small-acts-big-impacts-a-day-of-service-at-discovery-museum-3/2026-02-28/
LOCATION:Discovery Museum\, 177 Main St.\, Acton\, 01720
CATEGORIES:Children
ATTACH;FMTTYPE=image/png:https://visitconcord.org/wp-content/uploads/2025/12/MLK-Small-Acts-Big-Impacts-web-graphic.png
ORGANIZER;CN="Discovery Museum":MAILTO:discoveryacton.org
GEO:42.464173;-71.4551213
X-APPLE-STRUCTURED-LOCATION;VALUE=URI;X-ADDRESS=Discovery Museum 177 Main St. Acton 01720;X-APPLE-RADIUS=500;X-TITLE=177 Main St.:geo:-71.4551213,42.464173
END:VEVENT
BEGIN:VEVENT
DTSTART;TZID=America/New_York:20260301T130000
DTEND;TZID=America/New_York:20260301T160000
DTSTAMP:20260422T183944
CREATED:20251205T131110Z
LAST-MODIFIED:20251205T131110Z
UID:10021606-1772370000-1772380800@visitconcord.org
SUMMARY:Small Acts\, Big Impacts: A Day of Service at Discovery Museum
DESCRIPTION:Martin Luther King Jr. Day is a designated National Day of Service\, to encourage all Americans to volunteer within their communities and honor the life and legacy of the Civil Rights leader. Join the Discovery Museum as we engage in small acts of service to benefit our neighbors. Participate in a donation drive (details coming soon) and create handmade welcome cards to benefit the Refugee & Immigrant Assistance Center\, a local nonprofit that supports children and families experiencing resettlement.
URL:https://visitconcord.org/event/small-acts-big-impacts-a-day-of-service-at-discovery-museum-3/2026-03-01/
LOCATION:Discovery Museum\, 177 Main St.\, Acton\, 01720
CATEGORIES:Children
ATTACH;FMTTYPE=image/png:https://visitconcord.org/wp-content/uploads/2025/12/MLK-Small-Acts-Big-Impacts-web-graphic.png
ORGANIZER;CN="Discovery Museum":MAILTO:discoveryacton.org
GEO:42.464173;-71.4551213
X-APPLE-STRUCTURED-LOCATION;VALUE=URI;X-ADDRESS=Discovery Museum 177 Main St. Acton 01720;X-APPLE-RADIUS=500;X-TITLE=177 Main St.:geo:-71.4551213,42.464173
END:VEVENT
BEGIN:VEVENT
DTSTART;TZID=America/New_York:20260301T140000
DTEND;TZID=America/New_York:20260301T153000
DTSTAMP:20260422T183944
CREATED:20260122T171945Z
LAST-MODIFIED:20260122T171945Z
UID:10022030-1772373600-1772379000@visitconcord.org
SUMMARY:Decorate a Lantern Workshop
DESCRIPTION:Come make a lantern and shine your light at Concord’s inaugural lantern Brighter Together Parade and Party!\nBring your lantern to the mustering location at 6:00pm\, a the Alcott Elementary School\, on March 7th. We will parade with our lanterns to a party at the Concord Scout House. You can find more information about the event at concordlanterns.org. \nThis workshop is suitable for children 11 and up\, for teens and adults. \nChildren under 12 must be accompanied by an adult. \nFree!
URL:https://visitconcord.org/event/decorate-a-lantern-workshop-4/
LOCATION:Art for All Concord\, 152 Commonwealth Ave. Suite 16\, Concord\, MA 01742
CATEGORIES:Arts & Culture,Children,Concord250
ATTACH;FMTTYPE=image/jpeg:https://visitconcord.org/wp-content/uploads/2026/01/lantern-making-2026.jpg
ORGANIZER;CN="Art for All Concord":MAILTO:Hello@villageartroom.com
GEO:42.4585448;-71.3965289
X-APPLE-STRUCTURED-LOCATION;VALUE=URI;X-ADDRESS=Art for All Concord 152 Commonwealth Ave. Suite 16 Concord MA 01742;X-APPLE-RADIUS=500;X-TITLE=152 Commonwealth Ave. Suite 16:geo:-71.3965289,42.4585448
END:VEVENT
END:VCALENDAR