BEGIN:VCALENDAR
VERSION:2.0
PRODID:-//Visit Concord - ECPv6.15.20//NONSGML v1.0//EN
CALSCALE:GREGORIAN
METHOD:PUBLISH
X-WR-CALNAME:Visit Concord
X-ORIGINAL-URL:https://visitconcord.org
X-WR-CALDESC:Events for Visit Concord
REFRESH-INTERVAL;VALUE=DURATION:PT1H
X-Robots-Tag:noindex
X-PUBLISHED-TTL:PT1H
BEGIN:VTIMEZONE
TZID:America/New_York
BEGIN:DAYLIGHT
TZOFFSETFROM:-0500
TZOFFSETTO:-0400
TZNAME:EDT
DTSTART:20240310T070000
END:DAYLIGHT
BEGIN:STANDARD
TZOFFSETFROM:-0400
TZOFFSETTO:-0500
TZNAME:EST
DTSTART:20241103T060000
END:STANDARD
BEGIN:DAYLIGHT
TZOFFSETFROM:-0500
TZOFFSETTO:-0400
TZNAME:EDT
DTSTART:20250309T070000
END:DAYLIGHT
BEGIN:STANDARD
TZOFFSETFROM:-0400
TZOFFSETTO:-0500
TZNAME:EST
DTSTART:20251102T060000
END:STANDARD
BEGIN:DAYLIGHT
TZOFFSETFROM:-0500
TZOFFSETTO:-0400
TZNAME:EDT
DTSTART:20260308T070000
END:DAYLIGHT
BEGIN:STANDARD
TZOFFSETFROM:-0400
TZOFFSETTO:-0500
TZNAME:EST
DTSTART:20261101T060000
END:STANDARD
END:VTIMEZONE
BEGIN:VEVENT
DTSTART;TZID=America/New_York:20250730T173000
DTEND;TZID=America/New_York:20250730T190000
DTSTAMP:20260423T063828
CREATED:20250714T124641Z
LAST-MODIFIED:20250714T124641Z
UID:10020966-1753896600-1753902000@visitconcord.org
SUMMARY:Summer Concert Series at Nashoba Brooks School
DESCRIPTION:Join in for the Summer Concert Series at Nashoba Brooks School on one or more of the dates: July 16\, July 23\, July 30 and August 6 from 5:30-7:00 p.m. The concerts are FREE and open to all! Plan to bring a picnic and blanket\, enjoying the music and grounds of Nashoba Brooks School! Free admission and the event happens rain or shine!
URL:https://visitconcord.org/event/summer-concert-series-at-nashoba-brooks-school/2025-07-30/
LOCATION:New\, Main Street\, San Quentin\, CA\, 94964\, United States
CATEGORIES:Arts & Culture,Children
ATTACH;FMTTYPE=image/png:https://visitconcord.org/wp-content/uploads/2025/07/Summer-Concert-copy.png
ORGANIZER;CN="Nashoba Brooks School":MAILTO:admission@nashobabrooks.org
GEO:37.9422146;-122.4818929
X-APPLE-STRUCTURED-LOCATION;VALUE=URI;X-ADDRESS=New Main Street San Quentin CA 94964 United States;X-APPLE-RADIUS=500;X-TITLE=Main Street:geo:-122.4818929,37.9422146
END:VEVENT
END:VCALENDAR