BEGIN:VCALENDAR
VERSION:2.0
PRODID:-//Visit Concord - ECPv6.15.20//NONSGML v1.0//EN
CALSCALE:GREGORIAN
METHOD:PUBLISH
X-WR-CALNAME:Visit Concord
X-ORIGINAL-URL:https://visitconcord.org
X-WR-CALDESC:Events for Visit Concord
REFRESH-INTERVAL;VALUE=DURATION:PT1H
X-Robots-Tag:noindex
X-PUBLISHED-TTL:PT1H
BEGIN:VTIMEZONE
TZID:America/New_York
BEGIN:DAYLIGHT
TZOFFSETFROM:-0500
TZOFFSETTO:-0400
TZNAME:EDT
DTSTART:20240310T070000
END:DAYLIGHT
BEGIN:STANDARD
TZOFFSETFROM:-0400
TZOFFSETTO:-0500
TZNAME:EST
DTSTART:20241103T060000
END:STANDARD
BEGIN:DAYLIGHT
TZOFFSETFROM:-0500
TZOFFSETTO:-0400
TZNAME:EDT
DTSTART:20250309T070000
END:DAYLIGHT
BEGIN:STANDARD
TZOFFSETFROM:-0400
TZOFFSETTO:-0500
TZNAME:EST
DTSTART:20251102T060000
END:STANDARD
BEGIN:DAYLIGHT
TZOFFSETFROM:-0500
TZOFFSETTO:-0400
TZNAME:EDT
DTSTART:20260308T070000
END:DAYLIGHT
BEGIN:STANDARD
TZOFFSETFROM:-0400
TZOFFSETTO:-0500
TZNAME:EST
DTSTART:20261101T060000
END:STANDARD
BEGIN:DAYLIGHT
TZOFFSETFROM:-0500
TZOFFSETTO:-0400
TZNAME:EDT
DTSTART:20270314T070000
END:DAYLIGHT
BEGIN:STANDARD
TZOFFSETFROM:-0400
TZOFFSETTO:-0500
TZNAME:EST
DTSTART:20271107T060000
END:STANDARD
END:VTIMEZONE
BEGIN:VEVENT
DTSTART;TZID=America/New_York:20251122T100000
DTEND;TZID=America/New_York:20260104T160000
DTSTAMP:20260422T155245
CREATED:20250919T160649Z
LAST-MODIFIED:20250919T160649Z
UID:10021085-1763805600-1767542400@visitconcord.org
SUMMARY:30th Annual Concord Museum Family Trees
DESCRIPTION:Experience a one-of-a-kind installation of dozens of stunning story trees crafted by talented local volunteers and organizations\, each featuring elaborate hand-made decorations inspired by a picture book. A centerpiece of the Museum’s community-focused programing\, this popular annual event celebrates children’s books and a love of reading as families explore new story trees\, sit and read together\, or undertake a festive scavenger hunt. Now in its 30th year\, in 2025 Family Trees will feature a mix of classic children’s books – from Goodnight Moon to the Very Hungry Caterpillar – and inspiring new books\, many by local authors. \nJoin us on December 14 for a festive Birthday Party to celebrate 30 years of Family Trees! Meet the local authors\, illustrators\, and even some of the characters from the books featured in this year’s installation. \nAdmission is $20 Adults; $15 Seniors & students; $10 Youth (6-17); $5 Children (3-5); Free Children (2 and under). Members Free. \nFamily Trees is a fundraiser for the Museum’s education initiatives which serve over 15\,000 students each year.
URL:https://visitconcord.org/event/30th-annual-concord-museum-family-trees/
LOCATION:Concord Museum\, Cambridge Turnpike\, Concord\, Massachusetts\, 01742\, United States
CATEGORIES:Arts & Culture,Children,Holiday,Literary Visitor
ATTACH;FMTTYPE=image/jpeg:https://visitconcord.org/wp-content/uploads/2025/09/Family-Trees.jpg
ORGANIZER;CN="Concord Museum":MAILTO:cm1@concordmuseum.org
GEO:42.45765;-71.3420769
X-APPLE-STRUCTURED-LOCATION;VALUE=URI;X-ADDRESS=Concord Museum Cambridge Turnpike Concord Massachusetts 01742 United States;X-APPLE-RADIUS=500;X-TITLE=Cambridge Turnpike:geo:-71.3420769,42.45765
END:VEVENT
BEGIN:VEVENT
DTSTART;TZID=America/New_York:20260113T100000
DTEND;TZID=America/New_York:20260113T120000
DTSTAMP:20260422T155245
CREATED:20251205T131051Z
LAST-MODIFIED:20251205T131051Z
UID:10021931-1768298400-1768305600@visitconcord.org
SUMMARY:Icy Artworks at Discovery Museum
DESCRIPTION:The science of freezing and melting takes place all around during the winter season! Join us as we use this scientific phenomenon to create original works of art. Weather depending\, we’ll either use the snow as our canvas or take our frozen creations indoors.
URL:https://visitconcord.org/event/icy-artworks-at-discovery-museum/
LOCATION:Discovery Museum\, 177 Main St.\, Acton\, 01720
CATEGORIES:Children
ATTACH;FMTTYPE=image/jpeg:https://visitconcord.org/wp-content/uploads/2025/12/Icy-Artwork.jpg
ORGANIZER;CN="Discovery Museum":MAILTO:discoveryacton.org
GEO:42.464173;-71.4551213
X-APPLE-STRUCTURED-LOCATION;VALUE=URI;X-ADDRESS=Discovery Museum 177 Main St. Acton 01720;X-APPLE-RADIUS=500;X-TITLE=177 Main St.:geo:-71.4551213,42.464173
END:VEVENT
BEGIN:VEVENT
DTSTART;TZID=America/New_York:20260117T130000
DTEND;TZID=America/New_York:20260117T160000
DTSTAMP:20260422T155245
CREATED:20251205T131110Z
LAST-MODIFIED:20251205T131110Z
UID:10021563-1768654800-1768665600@visitconcord.org
SUMMARY:Small Acts\, Big Impacts: A Day of Service at Discovery Museum
DESCRIPTION:Martin Luther King Jr. Day is a designated National Day of Service\, to encourage all Americans to volunteer within their communities and honor the life and legacy of the Civil Rights leader. Join the Discovery Museum as we engage in small acts of service to benefit our neighbors. Participate in a donation drive (details coming soon) and create handmade welcome cards to benefit the Refugee & Immigrant Assistance Center\, a local nonprofit that supports children and families experiencing resettlement.
URL:https://visitconcord.org/event/small-acts-big-impacts-a-day-of-service-at-discovery-museum-3/2026-01-17/
LOCATION:Discovery Museum\, 177 Main St.\, Acton\, 01720
CATEGORIES:Children
ATTACH;FMTTYPE=image/png:https://visitconcord.org/wp-content/uploads/2025/12/MLK-Small-Acts-Big-Impacts-web-graphic.png
ORGANIZER;CN="Discovery Museum":MAILTO:discoveryacton.org
GEO:42.464173;-71.4551213
X-APPLE-STRUCTURED-LOCATION;VALUE=URI;X-ADDRESS=Discovery Museum 177 Main St. Acton 01720;X-APPLE-RADIUS=500;X-TITLE=177 Main St.:geo:-71.4551213,42.464173
END:VEVENT
BEGIN:VEVENT
DTSTART;TZID=America/New_York:20260118T130000
DTEND;TZID=America/New_York:20260118T160000
DTSTAMP:20260422T155245
CREATED:20251205T131110Z
LAST-MODIFIED:20251205T131110Z
UID:10021564-1768741200-1768752000@visitconcord.org
SUMMARY:Small Acts\, Big Impacts: A Day of Service at Discovery Museum
DESCRIPTION:Martin Luther King Jr. Day is a designated National Day of Service\, to encourage all Americans to volunteer within their communities and honor the life and legacy of the Civil Rights leader. Join the Discovery Museum as we engage in small acts of service to benefit our neighbors. Participate in a donation drive (details coming soon) and create handmade welcome cards to benefit the Refugee & Immigrant Assistance Center\, a local nonprofit that supports children and families experiencing resettlement.
URL:https://visitconcord.org/event/small-acts-big-impacts-a-day-of-service-at-discovery-museum-3/2026-01-18/
LOCATION:Discovery Museum\, 177 Main St.\, Acton\, 01720
CATEGORIES:Children
ATTACH;FMTTYPE=image/png:https://visitconcord.org/wp-content/uploads/2025/12/MLK-Small-Acts-Big-Impacts-web-graphic.png
ORGANIZER;CN="Discovery Museum":MAILTO:discoveryacton.org
GEO:42.464173;-71.4551213
X-APPLE-STRUCTURED-LOCATION;VALUE=URI;X-ADDRESS=Discovery Museum 177 Main St. Acton 01720;X-APPLE-RADIUS=500;X-TITLE=177 Main St.:geo:-71.4551213,42.464173
END:VEVENT
BEGIN:VEVENT
DTSTART;TZID=America/New_York:20260119T130000
DTEND;TZID=America/New_York:20260119T160000
DTSTAMP:20260422T155245
CREATED:20251205T131110Z
LAST-MODIFIED:20251205T131110Z
UID:10021565-1768827600-1768838400@visitconcord.org
SUMMARY:Small Acts\, Big Impacts: A Day of Service at Discovery Museum
DESCRIPTION:Martin Luther King Jr. Day is a designated National Day of Service\, to encourage all Americans to volunteer within their communities and honor the life and legacy of the Civil Rights leader. Join the Discovery Museum as we engage in small acts of service to benefit our neighbors. Participate in a donation drive (details coming soon) and create handmade welcome cards to benefit the Refugee & Immigrant Assistance Center\, a local nonprofit that supports children and families experiencing resettlement.
URL:https://visitconcord.org/event/small-acts-big-impacts-a-day-of-service-at-discovery-museum-3/2026-01-19/
LOCATION:Discovery Museum\, 177 Main St.\, Acton\, 01720
CATEGORIES:Children
ATTACH;FMTTYPE=image/png:https://visitconcord.org/wp-content/uploads/2025/12/MLK-Small-Acts-Big-Impacts-web-graphic.png
ORGANIZER;CN="Discovery Museum":MAILTO:discoveryacton.org
GEO:42.464173;-71.4551213
X-APPLE-STRUCTURED-LOCATION;VALUE=URI;X-ADDRESS=Discovery Museum 177 Main St. Acton 01720;X-APPLE-RADIUS=500;X-TITLE=177 Main St.:geo:-71.4551213,42.464173
END:VEVENT
BEGIN:VEVENT
DTSTART;TZID=America/New_York:20260120T130000
DTEND;TZID=America/New_York:20260120T160000
DTSTAMP:20260422T155245
CREATED:20251205T131110Z
LAST-MODIFIED:20251205T131110Z
UID:10021566-1768914000-1768924800@visitconcord.org
SUMMARY:Small Acts\, Big Impacts: A Day of Service at Discovery Museum
DESCRIPTION:Martin Luther King Jr. Day is a designated National Day of Service\, to encourage all Americans to volunteer within their communities and honor the life and legacy of the Civil Rights leader. Join the Discovery Museum as we engage in small acts of service to benefit our neighbors. Participate in a donation drive (details coming soon) and create handmade welcome cards to benefit the Refugee & Immigrant Assistance Center\, a local nonprofit that supports children and families experiencing resettlement.
URL:https://visitconcord.org/event/small-acts-big-impacts-a-day-of-service-at-discovery-museum-3/2026-01-20/
LOCATION:Discovery Museum\, 177 Main St.\, Acton\, 01720
CATEGORIES:Children
ATTACH;FMTTYPE=image/png:https://visitconcord.org/wp-content/uploads/2025/12/MLK-Small-Acts-Big-Impacts-web-graphic.png
ORGANIZER;CN="Discovery Museum":MAILTO:discoveryacton.org
GEO:42.464173;-71.4551213
X-APPLE-STRUCTURED-LOCATION;VALUE=URI;X-ADDRESS=Discovery Museum 177 Main St. Acton 01720;X-APPLE-RADIUS=500;X-TITLE=177 Main St.:geo:-71.4551213,42.464173
END:VEVENT
BEGIN:VEVENT
DTSTART;TZID=America/New_York:20260121T130000
DTEND;TZID=America/New_York:20260121T160000
DTSTAMP:20260422T155245
CREATED:20251205T131110Z
LAST-MODIFIED:20251205T131110Z
UID:10021567-1769000400-1769011200@visitconcord.org
SUMMARY:Small Acts\, Big Impacts: A Day of Service at Discovery Museum
DESCRIPTION:Martin Luther King Jr. Day is a designated National Day of Service\, to encourage all Americans to volunteer within their communities and honor the life and legacy of the Civil Rights leader. Join the Discovery Museum as we engage in small acts of service to benefit our neighbors. Participate in a donation drive (details coming soon) and create handmade welcome cards to benefit the Refugee & Immigrant Assistance Center\, a local nonprofit that supports children and families experiencing resettlement.
URL:https://visitconcord.org/event/small-acts-big-impacts-a-day-of-service-at-discovery-museum-3/2026-01-21/
LOCATION:Discovery Museum\, 177 Main St.\, Acton\, 01720
CATEGORIES:Children
ATTACH;FMTTYPE=image/png:https://visitconcord.org/wp-content/uploads/2025/12/MLK-Small-Acts-Big-Impacts-web-graphic.png
ORGANIZER;CN="Discovery Museum":MAILTO:discoveryacton.org
GEO:42.464173;-71.4551213
X-APPLE-STRUCTURED-LOCATION;VALUE=URI;X-ADDRESS=Discovery Museum 177 Main St. Acton 01720;X-APPLE-RADIUS=500;X-TITLE=177 Main St.:geo:-71.4551213,42.464173
END:VEVENT
BEGIN:VEVENT
DTSTART;TZID=America/New_York:20260122T130000
DTEND;TZID=America/New_York:20260122T160000
DTSTAMP:20260422T155245
CREATED:20251205T131110Z
LAST-MODIFIED:20251205T131110Z
UID:10021568-1769086800-1769097600@visitconcord.org
SUMMARY:Small Acts\, Big Impacts: A Day of Service at Discovery Museum
DESCRIPTION:Martin Luther King Jr. Day is a designated National Day of Service\, to encourage all Americans to volunteer within their communities and honor the life and legacy of the Civil Rights leader. Join the Discovery Museum as we engage in small acts of service to benefit our neighbors. Participate in a donation drive (details coming soon) and create handmade welcome cards to benefit the Refugee & Immigrant Assistance Center\, a local nonprofit that supports children and families experiencing resettlement.
URL:https://visitconcord.org/event/small-acts-big-impacts-a-day-of-service-at-discovery-museum-3/2026-01-22/
LOCATION:Discovery Museum\, 177 Main St.\, Acton\, 01720
CATEGORIES:Children
ATTACH;FMTTYPE=image/png:https://visitconcord.org/wp-content/uploads/2025/12/MLK-Small-Acts-Big-Impacts-web-graphic.png
ORGANIZER;CN="Discovery Museum":MAILTO:discoveryacton.org
GEO:42.464173;-71.4551213
X-APPLE-STRUCTURED-LOCATION;VALUE=URI;X-ADDRESS=Discovery Museum 177 Main St. Acton 01720;X-APPLE-RADIUS=500;X-TITLE=177 Main St.:geo:-71.4551213,42.464173
END:VEVENT
BEGIN:VEVENT
DTSTART;TZID=America/New_York:20260123T130000
DTEND;TZID=America/New_York:20260123T160000
DTSTAMP:20260422T155245
CREATED:20251205T131110Z
LAST-MODIFIED:20251205T131110Z
UID:10021569-1769173200-1769184000@visitconcord.org
SUMMARY:Small Acts\, Big Impacts: A Day of Service at Discovery Museum
DESCRIPTION:Martin Luther King Jr. Day is a designated National Day of Service\, to encourage all Americans to volunteer within their communities and honor the life and legacy of the Civil Rights leader. Join the Discovery Museum as we engage in small acts of service to benefit our neighbors. Participate in a donation drive (details coming soon) and create handmade welcome cards to benefit the Refugee & Immigrant Assistance Center\, a local nonprofit that supports children and families experiencing resettlement.
URL:https://visitconcord.org/event/small-acts-big-impacts-a-day-of-service-at-discovery-museum-3/2026-01-23/
LOCATION:Discovery Museum\, 177 Main St.\, Acton\, 01720
CATEGORIES:Children
ATTACH;FMTTYPE=image/png:https://visitconcord.org/wp-content/uploads/2025/12/MLK-Small-Acts-Big-Impacts-web-graphic.png
ORGANIZER;CN="Discovery Museum":MAILTO:discoveryacton.org
GEO:42.464173;-71.4551213
X-APPLE-STRUCTURED-LOCATION;VALUE=URI;X-ADDRESS=Discovery Museum 177 Main St. Acton 01720;X-APPLE-RADIUS=500;X-TITLE=177 Main St.:geo:-71.4551213,42.464173
END:VEVENT
BEGIN:VEVENT
DTSTART;TZID=America/New_York:20260124T103000
DTEND;TZID=America/New_York:20260124T120000
DTSTAMP:20260422T155245
CREATED:20260122T165415Z
LAST-MODIFIED:20260122T170242Z
UID:10022025-1769250600-1769256000@visitconcord.org
SUMMARY:Lantern Making Workshop
DESCRIPTION:Come decorate a lantern and shine your light at Concord’s inaugural lantern Brighter Together Parade and Party!\nBring your lantern to Alcott Elementary School on the evening of March 7th\, and march with us to a party at the Concord Scout House. You can find more information about the event at concordlanterns.org. \nThis workshop is suitable for children 3 and up\, accompanied by an adult. Children and adults are welcome to decorate lanterns. \nFree!
URL:https://visitconcord.org/event/lantern-making-workshop/
LOCATION:Art for All Concord\, 152 Commonwealth Ave. Suite 16\, Concord\, MA 01742
CATEGORIES:Arts & Culture,Children,Concord250,West Concord
ATTACH;FMTTYPE=image/jpeg:https://visitconcord.org/wp-content/uploads/2026/01/lantern-making-2026.jpg
ORGANIZER;CN="Art for All Concord":MAILTO:Hello@villageartroom.com
GEO:42.4585448;-71.3965289
X-APPLE-STRUCTURED-LOCATION;VALUE=URI;X-ADDRESS=Art for All Concord 152 Commonwealth Ave. Suite 16 Concord MA 01742;X-APPLE-RADIUS=500;X-TITLE=152 Commonwealth Ave. Suite 16:geo:-71.3965289,42.4585448
END:VEVENT
BEGIN:VEVENT
DTSTART;TZID=America/New_York:20260124T130000
DTEND;TZID=America/New_York:20260124T160000
DTSTAMP:20260422T155245
CREATED:20251205T131110Z
LAST-MODIFIED:20251205T131110Z
UID:10021570-1769259600-1769270400@visitconcord.org
SUMMARY:Small Acts\, Big Impacts: A Day of Service at Discovery Museum
DESCRIPTION:Martin Luther King Jr. Day is a designated National Day of Service\, to encourage all Americans to volunteer within their communities and honor the life and legacy of the Civil Rights leader. Join the Discovery Museum as we engage in small acts of service to benefit our neighbors. Participate in a donation drive (details coming soon) and create handmade welcome cards to benefit the Refugee & Immigrant Assistance Center\, a local nonprofit that supports children and families experiencing resettlement.
URL:https://visitconcord.org/event/small-acts-big-impacts-a-day-of-service-at-discovery-museum-3/2026-01-24/
LOCATION:Discovery Museum\, 177 Main St.\, Acton\, 01720
CATEGORIES:Children
ATTACH;FMTTYPE=image/png:https://visitconcord.org/wp-content/uploads/2025/12/MLK-Small-Acts-Big-Impacts-web-graphic.png
ORGANIZER;CN="Discovery Museum":MAILTO:discoveryacton.org
GEO:42.464173;-71.4551213
X-APPLE-STRUCTURED-LOCATION;VALUE=URI;X-ADDRESS=Discovery Museum 177 Main St. Acton 01720;X-APPLE-RADIUS=500;X-TITLE=177 Main St.:geo:-71.4551213,42.464173
END:VEVENT
BEGIN:VEVENT
DTSTART;TZID=America/New_York:20260125T130000
DTEND;TZID=America/New_York:20260125T160000
DTSTAMP:20260422T155245
CREATED:20251205T131110Z
LAST-MODIFIED:20251205T131110Z
UID:10021571-1769346000-1769356800@visitconcord.org
SUMMARY:Small Acts\, Big Impacts: A Day of Service at Discovery Museum
DESCRIPTION:Martin Luther King Jr. Day is a designated National Day of Service\, to encourage all Americans to volunteer within their communities and honor the life and legacy of the Civil Rights leader. Join the Discovery Museum as we engage in small acts of service to benefit our neighbors. Participate in a donation drive (details coming soon) and create handmade welcome cards to benefit the Refugee & Immigrant Assistance Center\, a local nonprofit that supports children and families experiencing resettlement.
URL:https://visitconcord.org/event/small-acts-big-impacts-a-day-of-service-at-discovery-museum-3/2026-01-25/
LOCATION:Discovery Museum\, 177 Main St.\, Acton\, 01720
CATEGORIES:Children
ATTACH;FMTTYPE=image/png:https://visitconcord.org/wp-content/uploads/2025/12/MLK-Small-Acts-Big-Impacts-web-graphic.png
ORGANIZER;CN="Discovery Museum":MAILTO:discoveryacton.org
GEO:42.464173;-71.4551213
X-APPLE-STRUCTURED-LOCATION;VALUE=URI;X-ADDRESS=Discovery Museum 177 Main St. Acton 01720;X-APPLE-RADIUS=500;X-TITLE=177 Main St.:geo:-71.4551213,42.464173
END:VEVENT
BEGIN:VEVENT
DTSTART;TZID=America/New_York:20260126T130000
DTEND;TZID=America/New_York:20260126T160000
DTSTAMP:20260422T155245
CREATED:20251205T131110Z
LAST-MODIFIED:20251205T131110Z
UID:10021572-1769432400-1769443200@visitconcord.org
SUMMARY:Small Acts\, Big Impacts: A Day of Service at Discovery Museum
DESCRIPTION:Martin Luther King Jr. Day is a designated National Day of Service\, to encourage all Americans to volunteer within their communities and honor the life and legacy of the Civil Rights leader. Join the Discovery Museum as we engage in small acts of service to benefit our neighbors. Participate in a donation drive (details coming soon) and create handmade welcome cards to benefit the Refugee & Immigrant Assistance Center\, a local nonprofit that supports children and families experiencing resettlement.
URL:https://visitconcord.org/event/small-acts-big-impacts-a-day-of-service-at-discovery-museum-3/2026-01-26/
LOCATION:Discovery Museum\, 177 Main St.\, Acton\, 01720
CATEGORIES:Children
ATTACH;FMTTYPE=image/png:https://visitconcord.org/wp-content/uploads/2025/12/MLK-Small-Acts-Big-Impacts-web-graphic.png
ORGANIZER;CN="Discovery Museum":MAILTO:discoveryacton.org
GEO:42.464173;-71.4551213
X-APPLE-STRUCTURED-LOCATION;VALUE=URI;X-ADDRESS=Discovery Museum 177 Main St. Acton 01720;X-APPLE-RADIUS=500;X-TITLE=177 Main St.:geo:-71.4551213,42.464173
END:VEVENT
BEGIN:VEVENT
DTSTART;TZID=America/New_York:20260127T130000
DTEND;TZID=America/New_York:20260127T160000
DTSTAMP:20260422T155245
CREATED:20251205T131110Z
LAST-MODIFIED:20251205T131110Z
UID:10021573-1769518800-1769529600@visitconcord.org
SUMMARY:Small Acts\, Big Impacts: A Day of Service at Discovery Museum
DESCRIPTION:Martin Luther King Jr. Day is a designated National Day of Service\, to encourage all Americans to volunteer within their communities and honor the life and legacy of the Civil Rights leader. Join the Discovery Museum as we engage in small acts of service to benefit our neighbors. Participate in a donation drive (details coming soon) and create handmade welcome cards to benefit the Refugee & Immigrant Assistance Center\, a local nonprofit that supports children and families experiencing resettlement.
URL:https://visitconcord.org/event/small-acts-big-impacts-a-day-of-service-at-discovery-museum-3/2026-01-27/
LOCATION:Discovery Museum\, 177 Main St.\, Acton\, 01720
CATEGORIES:Children
ATTACH;FMTTYPE=image/png:https://visitconcord.org/wp-content/uploads/2025/12/MLK-Small-Acts-Big-Impacts-web-graphic.png
ORGANIZER;CN="Discovery Museum":MAILTO:discoveryacton.org
GEO:42.464173;-71.4551213
X-APPLE-STRUCTURED-LOCATION;VALUE=URI;X-ADDRESS=Discovery Museum 177 Main St. Acton 01720;X-APPLE-RADIUS=500;X-TITLE=177 Main St.:geo:-71.4551213,42.464173
END:VEVENT
BEGIN:VEVENT
DTSTART;TZID=America/New_York:20260128T130000
DTEND;TZID=America/New_York:20260128T160000
DTSTAMP:20260422T155245
CREATED:20251205T131110Z
LAST-MODIFIED:20251205T131110Z
UID:10021574-1769605200-1769616000@visitconcord.org
SUMMARY:Small Acts\, Big Impacts: A Day of Service at Discovery Museum
DESCRIPTION:Martin Luther King Jr. Day is a designated National Day of Service\, to encourage all Americans to volunteer within their communities and honor the life and legacy of the Civil Rights leader. Join the Discovery Museum as we engage in small acts of service to benefit our neighbors. Participate in a donation drive (details coming soon) and create handmade welcome cards to benefit the Refugee & Immigrant Assistance Center\, a local nonprofit that supports children and families experiencing resettlement.
URL:https://visitconcord.org/event/small-acts-big-impacts-a-day-of-service-at-discovery-museum-3/2026-01-28/
LOCATION:Discovery Museum\, 177 Main St.\, Acton\, 01720
CATEGORIES:Children
ATTACH;FMTTYPE=image/png:https://visitconcord.org/wp-content/uploads/2025/12/MLK-Small-Acts-Big-Impacts-web-graphic.png
ORGANIZER;CN="Discovery Museum":MAILTO:discoveryacton.org
GEO:42.464173;-71.4551213
X-APPLE-STRUCTURED-LOCATION;VALUE=URI;X-ADDRESS=Discovery Museum 177 Main St. Acton 01720;X-APPLE-RADIUS=500;X-TITLE=177 Main St.:geo:-71.4551213,42.464173
END:VEVENT
BEGIN:VEVENT
DTSTART;TZID=America/New_York:20260128T160000
DTEND;TZID=America/New_York:20260128T170000
DTSTAMP:20260422T155245
CREATED:20260122T170106Z
LAST-MODIFIED:20260122T170106Z
UID:10022026-1769616000-1769619600@visitconcord.org
SUMMARY:Lantern Decorating Workshop
DESCRIPTION:Come decorate a lantern and shine your light at Concord’s inaugural lantern Brighter Together Parade and Party!\nBring your lantern to Alcott Elementary School on the evening of March 7th\, and march with us to a party at the Concord Scout House. You can find more information about the event at concordlanterns.org. \nThis workshop is suitable for children 3 and up\, accompanied by an adult. Children and adults are welcome to decorate lanterns. \nFree!
URL:https://visitconcord.org/event/lantern-decorating-workshop/
LOCATION:Fowler Library
CATEGORIES:Children,Concord250,West Concord
ATTACH;FMTTYPE=image/jpeg:https://visitconcord.org/wp-content/uploads/2026/01/lantern-making-2026.jpg
ORGANIZER;CN="Art for All Concord":MAILTO:Hello@villageartroom.com
END:VEVENT
BEGIN:VEVENT
DTSTART;TZID=America/New_York:20260129T130000
DTEND;TZID=America/New_York:20260129T160000
DTSTAMP:20260422T155245
CREATED:20251205T131110Z
LAST-MODIFIED:20251205T131110Z
UID:10021575-1769691600-1769702400@visitconcord.org
SUMMARY:Small Acts\, Big Impacts: A Day of Service at Discovery Museum
DESCRIPTION:Martin Luther King Jr. Day is a designated National Day of Service\, to encourage all Americans to volunteer within their communities and honor the life and legacy of the Civil Rights leader. Join the Discovery Museum as we engage in small acts of service to benefit our neighbors. Participate in a donation drive (details coming soon) and create handmade welcome cards to benefit the Refugee & Immigrant Assistance Center\, a local nonprofit that supports children and families experiencing resettlement.
URL:https://visitconcord.org/event/small-acts-big-impacts-a-day-of-service-at-discovery-museum-3/2026-01-29/
LOCATION:Discovery Museum\, 177 Main St.\, Acton\, 01720
CATEGORIES:Children
ATTACH;FMTTYPE=image/png:https://visitconcord.org/wp-content/uploads/2025/12/MLK-Small-Acts-Big-Impacts-web-graphic.png
ORGANIZER;CN="Discovery Museum":MAILTO:discoveryacton.org
GEO:42.464173;-71.4551213
X-APPLE-STRUCTURED-LOCATION;VALUE=URI;X-ADDRESS=Discovery Museum 177 Main St. Acton 01720;X-APPLE-RADIUS=500;X-TITLE=177 Main St.:geo:-71.4551213,42.464173
END:VEVENT
BEGIN:VEVENT
DTSTART;TZID=America/New_York:20260130T130000
DTEND;TZID=America/New_York:20260130T160000
DTSTAMP:20260422T155245
CREATED:20251205T131110Z
LAST-MODIFIED:20251205T131110Z
UID:10021576-1769778000-1769788800@visitconcord.org
SUMMARY:Small Acts\, Big Impacts: A Day of Service at Discovery Museum
DESCRIPTION:Martin Luther King Jr. Day is a designated National Day of Service\, to encourage all Americans to volunteer within their communities and honor the life and legacy of the Civil Rights leader. Join the Discovery Museum as we engage in small acts of service to benefit our neighbors. Participate in a donation drive (details coming soon) and create handmade welcome cards to benefit the Refugee & Immigrant Assistance Center\, a local nonprofit that supports children and families experiencing resettlement.
URL:https://visitconcord.org/event/small-acts-big-impacts-a-day-of-service-at-discovery-museum-3/2026-01-30/
LOCATION:Discovery Museum\, 177 Main St.\, Acton\, 01720
CATEGORIES:Children
ATTACH;FMTTYPE=image/png:https://visitconcord.org/wp-content/uploads/2025/12/MLK-Small-Acts-Big-Impacts-web-graphic.png
ORGANIZER;CN="Discovery Museum":MAILTO:discoveryacton.org
GEO:42.464173;-71.4551213
X-APPLE-STRUCTURED-LOCATION;VALUE=URI;X-ADDRESS=Discovery Museum 177 Main St. Acton 01720;X-APPLE-RADIUS=500;X-TITLE=177 Main St.:geo:-71.4551213,42.464173
END:VEVENT
BEGIN:VEVENT
DTSTART;TZID=America/New_York:20260131T130000
DTEND;TZID=America/New_York:20260131T160000
DTSTAMP:20260422T155245
CREATED:20251205T131110Z
LAST-MODIFIED:20251205T131110Z
UID:10021577-1769864400-1769875200@visitconcord.org
SUMMARY:Small Acts\, Big Impacts: A Day of Service at Discovery Museum
DESCRIPTION:Martin Luther King Jr. Day is a designated National Day of Service\, to encourage all Americans to volunteer within their communities and honor the life and legacy of the Civil Rights leader. Join the Discovery Museum as we engage in small acts of service to benefit our neighbors. Participate in a donation drive (details coming soon) and create handmade welcome cards to benefit the Refugee & Immigrant Assistance Center\, a local nonprofit that supports children and families experiencing resettlement.
URL:https://visitconcord.org/event/small-acts-big-impacts-a-day-of-service-at-discovery-museum-3/2026-01-31/
LOCATION:Discovery Museum\, 177 Main St.\, Acton\, 01720
CATEGORIES:Children
ATTACH;FMTTYPE=image/png:https://visitconcord.org/wp-content/uploads/2025/12/MLK-Small-Acts-Big-Impacts-web-graphic.png
ORGANIZER;CN="Discovery Museum":MAILTO:discoveryacton.org
GEO:42.464173;-71.4551213
X-APPLE-STRUCTURED-LOCATION;VALUE=URI;X-ADDRESS=Discovery Museum 177 Main St. Acton 01720;X-APPLE-RADIUS=500;X-TITLE=177 Main St.:geo:-71.4551213,42.464173
END:VEVENT
END:VCALENDAR